    BEGIN:VCALENDAR
VERSION:2.0
PRODID:-//HERZOG Kultur- &amp; Stadtmagazin - ECPv4.9.2//NONSGML v1.0//EN
CALSCALE:GREGORIAN
METHOD:PUBLISH
X-WR-CALNAME:HERZOG Kultur- &amp; Stadtmagazin
X-ORIGINAL-URL:https://www.herzog-magazin.de
X-WR-CALDESC:Veranstaltungen im HERZOG Kultur- &amp; Stadtmagazin
BEGIN:VEVENT
DTSTART;TZID=Europe/Berlin:20221027T160000
DTEND;TZID=Europe/Berlin:20221027T190000
DTSTAMP:20260422T080224
CREATED:20221024T101156Z
LAST-MODIFIED:20221024T101156Z
UID:91899-1666886400-1666897200@www.herzog-magazin.de
SUMMARY:Film: afroamerikanische Lebenswirklichkeit
DESCRIPTION:Im Rahmen der Reihe „afroamerikanische Lebenswirklichkeit in Literatur und Film“ zeigt die Ev. Erwachsenenbildung am Donnerstag\, 27. Oktober\, um 16 Uhr den Film „Gute Geister – Die Schwarzen Hilfen der Weißen“ im Dietrich-Bonhoeffer-Haus. Gute Geister ist ein Roman der US-amerikanischen Schriftstellerin Kathryn Stockett\, der 2009 veröffentlicht wurde und später verfilmt wurde. Das Filmgespräch leitet Elke Bennetreu. \nMit großer Selbstverständlichkeit sind die schwarzen Frauen die Dienstmädchen und Kinderfrauen der weißen Frauen Anfang der 60 er Jahre in Amerika. Mit viel Liebe ziehen die schwarzen Frauen Kinder um Kinder groß\, und die Kinder lieben ihre Nannys oft mit inniger Hingabe. Sie schmeißen den Haushalt\, sind für alles und jedes zuständig und haben einen sehr langen Arbeitstag. Doch wie versorgen die schwarzen arbeitenden Frauen eigentlich ihre Kinder? Wie werden sie bezahlt? Wie geht man mit ihnen um?  \nDer Film kommt immer wieder mit Witz und Humor daher\, weiß aber sehr wohl zu berichten\, welche Unterschiede hier gemacht werden und was das für die schwarzen Frauen bedeutet. In diese Situation hinein kommt die junge Frau Skeeter nach ihrem Studium der Journalistik in ihre Heimatstadt  zurück und wirft einen kritischen Blick auf diese Lebenswirklichkeiten. Sie ist ja aufgewachsenen in diesen etablierten Kreisen\, ist selbst von einer Nanny erzogen worden\, die sie heiß und innig liebte. Jetzt aber nimmt sie diese Welt kritisch wahr und denkt\, so könne es nicht bleiben. Für Skeeter scheint die Zeit reif\, den benachteiligten Frauen endlich eine Stimme zu geben.  \nGanz heimlich beginnt sie mit den schwarzen „guten Geistern“ ins Gespräch zu kommen\, was gar nicht so leicht ist\, denn den weißen Frauen ist das gar nicht recht. Die Schwarzen sollen ihren Job machen\, dafür sind sie doch da. Doch Skeeter gibt nicht auf\, sie möchte die schwarzen Frauen dazu bringen\, dass sie ein Buch über ihre Lebenssituationen veröffentlichen kann. Das aber ist viel zu gefährlich\, es könnte ihnen ihren Job kosten.  \nDie Verfilmung des gleichnamigen Romans von Kathryn Stockett ist ein Stück lebendige Geschichte. Dabei wird nicht nur die Perspektive der Dienstboten gezeigt\, der Film offenbart auch die Ambivalenz der „Weißen“ durch ganz verschiedene Charaktere. Mit seinen spritzigen Dialogen weiß der Film zu punkten\, er ist bis in die Nebenrollen brillant und passend besetzt. Die imposante Ausstattung spiegelt die damaligen Umstände und schafft so ein historisches Stimmungsbild.  \nEs sind keine Gebühren zu entrichten. Der Besuch ist wegen der begrenzten Teilnehmerzahl nur mit Anmeldung an die EEB\, Tel. 02461 / 9966-0 oder eeb.juelich@ekir.de möglich. \n
URL:https://www.herzog-magazin.de/event/film-afroamerikanische-lebenswirklichkeit/
LOCATION:Dietrich-Bonhoeffer-Haus\, Düsseldorfer Straße 30\, Jülich\, NRW\, 52428\, Deutschland
GEO:50.924319;6.3564769
X-APPLE-STRUCTURED-LOCATION;VALUE=URI;X-ADDRESS=Dietrich-Bonhoeffer-Haus Düsseldorfer Straße 30 Jülich NRW 52428 Deutschland;X-APPLE-RADIUS=500;X-TITLE=Düsseldorfer Straße 30:geo:6.3564769,50.924319
CATEGORIES:Kino,kulturelle Bildung
ATTACH;FMTTYPE=image/jpeg:https://www.herzog-magazin.de/wp-content/uploads/2022/10/Dietrich-Bonhoeffer-Haus-Netz-NEU.jpg
ORGANIZER;CN="Evangelische%20Erwachsenenbildung%20im%20Kirchenkreis%20J%C3%BClich":MAILTO:eeb@kkrjuelich.de
END:VEVENT
END:VCALENDAR