    BEGIN:VCALENDAR
VERSION:2.0
PRODID:-//HERZOG Kultur- &amp; Stadtmagazin - ECPv4.9.2//NONSGML v1.0//EN
CALSCALE:GREGORIAN
METHOD:PUBLISH
X-WR-CALNAME:HERZOG Kultur- &amp; Stadtmagazin
X-ORIGINAL-URL:https://www.herzog-magazin.de
X-WR-CALDESC:Veranstaltungen im HERZOG Kultur- &amp; Stadtmagazin
BEGIN:VEVENT
DTSTART;TZID=Europe/Berlin:20181105T183000
DTEND;TZID=Europe/Berlin:20181105T183000
DTSTAMP:20260424T224133
CREATED:20180826T175725Z
LAST-MODIFIED:20181017T084459Z
UID:15514-1541442600-1541442600@www.herzog-magazin.de
SUMMARY:Fischers Bodendenkmal
DESCRIPTION:Fischers Bodendenkmal Buchhandlung Fischer\nKennen Sie Fischers Bodendenkmal? – Beim Erweiterungsbau der Buch- und Schreibwarenhandlung 1995 kamen im Hinterhof zwischen Köln- und Kapuzinerstraße neben Gruben mit römischen Siedlungsabfällen die mittelalterliche Mauerreste des ehemaligen Adelshofes »Zur Landkrone« zu Tage sowie eine dicke rote Brandschichten des Stadtbrandes von 1547\, der Anlass für den Renaissanceausbau der Innenstadt durch Allessandro Pasqualini war. Die Mauerzüge und Erdschichten wurden in einem begehbaren Bodenschaufenster erhalten und sind in der Buchhandlung zu sehen. Anlässlich des Jubiläums 150 Jahre Fischer in Jülich wird dieses Ensemble restauriert und als Schaufenster des Museums neu gestaltet. \n
URL:https://www.herzog-magazin.de/event/fischers-bodendenkmal/
LOCATION:Buchhandlung Fischer\, Kölnstraße 9\, Jülich\, NRW\, 52428\, Deutschland
GEO:50.92211;6.36157
X-APPLE-STRUCTURED-LOCATION;VALUE=URI;X-ADDRESS=Buchhandlung Fischer Kölnstraße 9 Jülich NRW 52428 Deutschland;X-APPLE-RADIUS=500;X-TITLE=Kölnstraße 9:geo:6.36157,50.92211
CATEGORIES:Ausstellung,kulturelle Bildung,Kunst & Design
ATTACH;FMTTYPE=image/jpeg:https://www.herzog-magazin.de/wp-content/uploads/2018/04/PR-089-Freikarten-zu-gewinnen-3.jpg
END:VEVENT
END:VCALENDAR