    BEGIN:VCALENDAR
VERSION:2.0
PRODID:-//HERZOG Kultur- &amp; Stadtmagazin - ECPv4.9.2//NONSGML v1.0//EN
CALSCALE:GREGORIAN
METHOD:PUBLISH
X-WR-CALNAME:HERZOG Kultur- &amp; Stadtmagazin
X-ORIGINAL-URL:https://www.herzog-magazin.de
X-WR-CALDESC:Veranstaltungen im HERZOG Kultur- &amp; Stadtmagazin
BEGIN:VEVENT
DTSTART;TZID=Europe/Berlin:20190115T193000
DTEND;TZID=Europe/Berlin:20190115T193000
DTSTAMP:20260421T103525
CREATED:20181211T175814Z
LAST-MODIFIED:20181211T175814Z
UID:18467-1547580600-1547580600@www.herzog-magazin.de
SUMMARY:Flower Power mit "Summer of Love"
DESCRIPTION: Flower Power mit „Summer of Love“ \nDie in Jülich beheimatete Formation „SoL“ (Summer of Love) besteht aus Virginia Lisken (Gesang und Gitarre)\, Michael Dorp (Gesang\, Percussion) sowie Jo Lisken (Cajon).​ \nJo Lisken kommt ursprünglich aus dem Hard Rock- und Metal- Bereich und war in den 1980er Jahren mit den Düsseldorfer Formationen Matrix und Noble Rot unterwegs. Unter anderem spielte er bereits im Vorprogramm für Rockgrößen wie Molly Hatchet. \nVirginias Ursprünge liegen im Folkbereich\, heute sind es die Rock- und Popperlen der letzten Jahrzehnte bis in die heutige Zeit\, die sie gerne neu arrangiert und präsentiert. Es liegt ihr am Herzen\, Songs zu covern\, die sie liebt. Als Support war sie unter anderem bei DEM Gitarrenlehrer Deutschlands Peter Bursch\, Kinderliedermacher Rolf Zuckowski und Gastmusikerin bei den Nervous Germans auf der Bühne. \nMichael Dorp ist den meisten als Frontmann der Bands Thin Crow\, Flying Circus und Mad Zeppelin bekannt. Mit seiner stimmlichen Bandbreite deckt er mühelos 50 Jahre Musikgeschichte ab und teilt sich die Bühne auch schon mal mit Musikgrößen wie Chris Thompson (Manfred Mann’s Earth Band) oder Poplegende Nik Kershaw. \nDie drei Musiker haben sich im Sommer 2017 zusammengetan und ein musikalisches Programm ausgearbeitet\, mit dem sie sehr erfolgreich durch die deutschen Lande touren\, das an die 60er und 70er Jahre erinnern soll. Zeitsprünge ins Hier und Jetzt sind jedoch auch erlaubt und gewollt. Rocklegenden wie Deep Purple oder Singer/Songwriter von Bob Dylan bis Neil Young gehören genauso zum Reportoire wie die Hollies oder The Mamas and the Papas. Die Mischung macht’s und entführt den Zuhörer auf eine kurzweilige Reise durch die Rock- und Poplandschaft des Flower Power-Feelings. \nAm Samstag\, 15. Dezember ist das Trio mit Flower Power und Christmas Songs zu Gast im Brauereigasthof „McMüllers“ \, Neusser Straße 54 in Linnich Kofferen. Beginn um 20:30 Uhr\, Eintritt frei \n  \n
URL:https://www.herzog-magazin.de/event/flower-power-mit-summer-of-love/
LOCATION:Mc Müller’s Irish and American Pub\, Neußer Str. 54\, Linnich\, 52441
GEO:50.99995;6.32185
X-APPLE-STRUCTURED-LOCATION;VALUE=URI;X-ADDRESS=Mc Müller’s Irish and American Pub Neußer Str. 54 Linnich 52441;X-APPLE-RADIUS=500;X-TITLE=Neußer Str. 54:geo:6.32185,50.99995
CATEGORIES:Musik & Konzerte
ATTACH;FMTTYPE=image/jpeg:https://www.herzog-magazin.de/wp-content/uploads/2018/04/gina.jpg
END:VEVENT
END:VCALENDAR