    BEGIN:VCALENDAR
VERSION:2.0
PRODID:-//HERZOG Kultur- &amp; Stadtmagazin - ECPv4.9.2//NONSGML v1.0//EN
CALSCALE:GREGORIAN
METHOD:PUBLISH
X-WR-CALNAME:HERZOG Kultur- &amp; Stadtmagazin
X-ORIGINAL-URL:https://www.herzog-magazin.de
X-WR-CALDESC:Veranstaltungen im HERZOG Kultur- &amp; Stadtmagazin
BEGIN:VEVENT
DTSTART;TZID=Europe/Berlin:20241009T150000
DTEND;TZID=Europe/Berlin:20241009T170000
DTSTAMP:20260419T235143
CREATED:20240925T142739Z
LAST-MODIFIED:20240925T150359Z
UID:133045-1728486000-1728493200@www.herzog-magazin.de
SUMMARY:Frauentreff: „Albert Schweitzer“
DESCRIPTION:Beim Frauentreff im Dietrich-Bonhoeffer-Haus\, Düsseldorfer Straße 30\, ist am Mittwoch\, 9. Oktober\, Referent Dr. Thomas Kreßner zu Gast. Er spricht über Albert Schweitzer\, das Multitalent und bedeutender evangelischer Theologe des 19./20. Jahrhunderts. \nDr. Thomas Kreßner ist ein großer Bewunderer dieses Mannes\, über dessen enorme Vielfalt an Begabung\, Energie und Lebensleistung er aus dem Staunen nicht herauskommt. Albert Schweitzer spielte glänzend die Orgel\, schrieb Bücher über den Orgelbau\, über musiktheoretische Probleme\, studierte Philosophie und Theologie\, litt unter der Enge des Denkens der theologischen Obrigkeit\, gründete ein Hospital in Lambarene (Gabun)\, konnte sich glänzend in deutsch und französisch ausdrücken. Er suchte lange nach einem neuen theologischen Ansatz\, den er in folgender Erkenntnis fand: »wir sind Leben inmitten von Leben\, das Leben will«. Dies war Grundsatz seiner Lehre von der Ehrfurcht vor dem Leben. Er engagierte sich in der Friedensfrage und erhielt dafür den Friedensnobelpreis. Mon dieu\, welch ein Vorbild! \nDer Frauentreff im Bonhoeffer-Haus findet an jedem 2. Mittwoch im Monat statt. Der Termin geht von 15 bis 17 Uhr. \n
URL:https://www.herzog-magazin.de/event/frauentreff-an-der-arche-um-acht-copy/
LOCATION:Dietrich-Bonhoeffer-Haus\, Düsseldorfer Straße 30\, Jülich\, NRW\, 52428\, Deutschland
GEO:50.924319;6.3564769
X-APPLE-STRUCTURED-LOCATION;VALUE=URI;X-ADDRESS=Dietrich-Bonhoeffer-Haus Düsseldorfer Straße 30 Jülich NRW 52428 Deutschland;X-APPLE-RADIUS=500;X-TITLE=Düsseldorfer Straße 30:geo:6.3564769,50.924319
CATEGORIES:für Frauen,Literatur,Vortrag
ATTACH;FMTTYPE=image/jpeg:https://www.herzog-magazin.de/wp-content/uploads/2022/11/Dietrich-Bonhoeffer-Haus-Netz-Foto-PuKBSuS.jpg
ORGANIZER;CN="Evangelische%20Kirchengemeinde%20J%C3%BClich":MAILTO:juelich@ekir.de
END:VEVENT
END:VCALENDAR