    BEGIN:VCALENDAR
VERSION:2.0
PRODID:-//HERZOG Kultur- &amp; Stadtmagazin - ECPv4.9.2//NONSGML v1.0//EN
CALSCALE:GREGORIAN
METHOD:PUBLISH
X-WR-CALNAME:HERZOG Kultur- &amp; Stadtmagazin
X-ORIGINAL-URL:https://www.herzog-magazin.de
X-WR-CALDESC:Veranstaltungen im HERZOG Kultur- &amp; Stadtmagazin
BEGIN:VEVENT
DTSTART;TZID=Europe/Berlin:20221024T200000
DTEND;TZID=Europe/Berlin:20221024T220000
DTSTAMP:20260421T131122
CREATED:20220914T122109Z
LAST-MODIFIED:20220914T123159Z
UID:88541-1666641600-1666648800@www.herzog-magazin.de
SUMMARY:Freibad
DESCRIPTION:Komödie | D 2022 | FSK: ab 12 | 102 Min. |6.50 Euro / 6.00 Euro erm.| Regie: Doris Dörrie | Darsteller: Andrea Sawatzki\, Maria Happel\, Nilam Farooq\, Lisa Wagner\, Melodie Wakivuamina\, Julia Jendroßek\, Sabrina Amali\, Nico Stank \nDoris Dörrie entfacht eine sommerliche Culture-Clash-Komödie \nEs ist Sommer und sehr heiß im einzigen Frauenfreibad Deutschlands.\nDort badet Frau oben ohne\, im Bikini\, Badeanzug oder Burkini. Jede folgt dabei anderen Regeln. Das führt immer wieder zu Reibereien\, die die überforderte Bademeisterin nicht so ganz im Griff hat. Als dann auch noch eine Gruppe komplett verhüllter Frauen das Frauenbad begeistert für sich entdeckt\, fliegen buchstäblich die Fetzen: Wem gehört das Bad und wer bestimmt die Regeln? Wem gehört der weibliche Körper? Und wann ist denn überhaupt eine Frau eine Frau? Die Bademeisterin kündigt entnervt. Als dann aber als Nachfolge ausgerechnet ein Mann als Bademeister angestellt wird\, eskaliert die Situation in unvorhersehbare Richtungen. \n
URL:https://www.herzog-magazin.de/event/freibad/2022-10-24/
LOCATION:Allgemeiner Ort\, NRW\, Deutschland
CATEGORIES:Kino
ATTACH;FMTTYPE=image/jpeg:https://www.herzog-magazin.de/wp-content/uploads/2022/09/maxresdefault-6.jpg
ORGANIZER;CN="KuBa%20J%C3%BClich":MAILTO:info@kuba-juelich.de
END:VEVENT
END:VCALENDAR