    BEGIN:VCALENDAR
VERSION:2.0
PRODID:-//HERZOG Kultur- &amp; Stadtmagazin - ECPv4.9.2//NONSGML v1.0//EN
CALSCALE:GREGORIAN
METHOD:PUBLISH
X-WR-CALNAME:HERZOG Kultur- &amp; Stadtmagazin
X-ORIGINAL-URL:https://www.herzog-magazin.de
X-WR-CALDESC:Veranstaltungen im HERZOG Kultur- &amp; Stadtmagazin
BEGIN:VEVENT
DTSTART;TZID=Europe/Berlin:20221204T110000
DTEND;TZID=Europe/Berlin:20221204T170000
DTSTAMP:20260425T190956
CREATED:20221129T162913Z
LAST-MODIFIED:20221129T162913Z
UID:94539-1670151600-1670173200@www.herzog-magazin.de
SUMMARY:Freier Eintritt im Museum
DESCRIPTION:An jedem 1. Sonntag im Monat ist der Eintritt in das Museum Zitadelle und die Landschaftsgalerie des Museums im Kulturhaus am Hexenturm frei. \nDie Ausstellungen „Weltreich & Provinz – Die Spanier am Niederrhein“ im Pulvermagazin der Zitadelle und „Gemalte Sehnsucht – Die Erfolgsgeschichte der Düsseldorfer Malerschule“ in der Landschaftsgalerie laden zu einem Besuch ein. \nMuseum und Landschaftsgalerie sind von November bis März samstags und sonntags von 11 bis 17 Uhr geöffnet\, Heilig Abend\, Weihnachten\, Sylvester und Neujahr geschlossen. \n
URL:https://www.herzog-magazin.de/event/freier-eintritt-im-museum/
LOCATION:Museum Zitadelle\, Schlossstraße\, Jülich\, 52428
CATEGORIES:Ausstellung,Geschichte,kulturelle Bildung,Kunst & Design
ATTACH;FMTTYPE=image/jpeg:https://www.herzog-magazin.de/wp-content/uploads/2022/11/PM-Museum-Herzog-7_22-Landschaftsgalerie-im-Kulturhaus-HZG.jpg
END:VEVENT
END:VCALENDAR