    BEGIN:VCALENDAR
VERSION:2.0
PRODID:-//HERZOG Kultur- &amp; Stadtmagazin - ECPv4.9.2//NONSGML v1.0//EN
CALSCALE:GREGORIAN
METHOD:PUBLISH
X-WR-CALNAME:HERZOG Kultur- &amp; Stadtmagazin
X-ORIGINAL-URL:https://www.herzog-magazin.de
X-WR-CALDESC:Veranstaltungen im HERZOG Kultur- &amp; Stadtmagazin
BEGIN:VEVENT
DTSTART;TZID=Europe/Berlin:20241019T090000
DTEND;TZID=Europe/Berlin:20241019T090000
DTSTAMP:20260420T044715
CREATED:20241002T090214Z
LAST-MODIFIED:20241002T090214Z
UID:133303-1729328400-1729328400@www.herzog-magazin.de
SUMMARY:"Frühstück für alle" in Koslar
DESCRIPTION:Am Samstag\, 19. Oktober\, bietet der Gemeinderat St. Adelgundis Koslar ein „Frühstück für alle“ an. Um 09.00 Uhr öffnen sich für alle Interessierten die Türen am Pfarrheim\, Friedhofstraße 7b\, an der Kirche. \nDa das Platzangebot begrenzt ist\, ist eine Anmeldung bei Monika Gilson-Klescht\, Tel. 02461 57856\, oder Maria Dolfen\, Tel. 02461 53735\, bis zum 15. Oktober 2024 erforderlich. Der Kostenbeitrag von 7€ ist bei der Anmeldung zu zahlen. \n
URL:https://www.herzog-magazin.de/event/fru%cc%88hstu%cc%88ck-fu%cc%88r-alle-in-koslar/
LOCATION:Pfarrheim Koslar\, Friedhofstraße 7b\, Koslar\, NRW\, 52428\, Deutschland
GEO:50.9273881;6.3152879
X-APPLE-STRUCTURED-LOCATION;VALUE=URI;X-ADDRESS=Pfarrheim Koslar Friedhofstraße 7b Koslar NRW 52428 Deutschland;X-APPLE-RADIUS=500;X-TITLE=Friedhofstraße 7b:geo:6.3152879,50.9273881
CATEGORIES:Essen & Trinken
ATTACH;FMTTYPE=image/jpeg:https://www.herzog-magazin.de/wp-content/uploads/2024/10/Fruehstueck_pixabay.jpg
ORGANIZER;CN="Kath.%20Pfarrei%20Heilig%20Geist%20J%C3%BClich":MAILTO:pfarramt@heilig-geist-juelich.de
END:VEVENT
END:VCALENDAR