    BEGIN:VCALENDAR
VERSION:2.0
PRODID:-//HERZOG Kultur- &amp; Stadtmagazin - ECPv4.9.2//NONSGML v1.0//EN
CALSCALE:GREGORIAN
METHOD:PUBLISH
X-WR-CALNAME:HERZOG Kultur- &amp; Stadtmagazin
X-ORIGINAL-URL:https://www.herzog-magazin.de
X-WR-CALDESC:Veranstaltungen im HERZOG Kultur- &amp; Stadtmagazin
BEGIN:VEVENT
DTSTART;TZID=Europe/Berlin:20220409T200000
DTEND;TZID=Europe/Berlin:20220409T200000
DTSTAMP:20260422T145337
CREATED:20220405T114953Z
LAST-MODIFIED:20220405T115357Z
UID:77096-1649534400-1649534400@www.herzog-magazin.de
SUMMARY:Frühjahrskonzert in Barmen
DESCRIPTION:Der Mai-Club Barmen lädt herzlich zum diesjährigen Frühjahrskonzert am Samstag\, 9. April\, um 20 Uhr in der Barmener Schützenhalle ein. Die musikalische Gestaltung des Abends wird vom Spielmannszug Gün-Weiß Lohn und vom Feuerwehrorchester Eschweiler übernommen. \nDas gemeinschaftliche Frühjahrskonzert dieser drei Vereine findet nur alle zwei Jahre statt. Die Eintrittskarten sind erhältlich bei den Vorstandsmitgliedern des Mai-Club Barmens sowie beim Spielmannszug Lohn und dem Feuerwehrorchester Eschweiler. \nEs gilt die 2G+ Regelung. \n
URL:https://www.herzog-magazin.de/event/fruehjahrskonzert-in-barmen/
LOCATION:Schützenhalle Barmen\, Herrenstraße 25\, Jülich-Barmen\, NRW\, 52428\, Deutschland
GEO:50.94454;6.30091
X-APPLE-STRUCTURED-LOCATION;VALUE=URI;X-ADDRESS=Schützenhalle Barmen Herrenstraße 25 Jülich-Barmen NRW 52428 Deutschland;X-APPLE-RADIUS=500;X-TITLE=Herrenstraße 25:geo:6.30091,50.94454
CATEGORIES:Musik,Musik & Konzerte
ATTACH;FMTTYPE=image/jpeg:https://www.herzog-magazin.de/wp-content/uploads/2022/04/Maiclub-Barmen-Britta-SylvesterArchiv.jpg
ORGANIZER;CN="Maiclub%20Barmen":MAILTO:maiclub-barmen@gmx.de
END:VEVENT
END:VCALENDAR