    BEGIN:VCALENDAR
VERSION:2.0
PRODID:-//HERZOG Kultur- &amp; Stadtmagazin - ECPv4.9.2//NONSGML v1.0//EN
CALSCALE:GREGORIAN
METHOD:PUBLISH
X-WR-CALNAME:HERZOG Kultur- &amp; Stadtmagazin
X-ORIGINAL-URL:https://www.herzog-magazin.de
X-WR-CALDESC:Veranstaltungen im HERZOG Kultur- &amp; Stadtmagazin
BEGIN:VEVENT
DTSTART;TZID=Europe/Berlin:20220510T090000
DTEND;TZID=Europe/Berlin:20220510T110000
DTSTAMP:20260420T043700
CREATED:20220429T090609Z
LAST-MODIFIED:20220429T090609Z
UID:78967-1652173200-1652180400@www.herzog-magazin.de
SUMMARY:Frühstück ab 55 im Andreas-Haus
DESCRIPTION:Das Frühstück ab 55 findet an jedem zweiten Dienstag im Monat 9 bis 11 Uhr im Andreas-Haus im Stadtteil Lich-Steinstraß\, Matthiasplatz 1\, statt. Beim nächsten Termin am 10. Mai werden die Teilnehmenden nach einer gemütlichen Frühstücksrunde Interessantes von Winfried Cremerius zum Thema „Die Geschichte Jülichs auf alten Postkarten“ hören.  \nWer gerne am „Frühstück ab 55“ teilnehmen möchte\, melde sich bitte bis Donnerstag\, 5. Mai\, telefonisch bei Hans Leo Hambloch unter 02461 / 4439 an. Auf einem Anrufbeantworter können Name und Telefonnummer hinterlassen werden. Der Kostenbeitrag für das Frühstück beträgt 4 Euro. \nDie Reihe „Frühstück ab 55“ wird veranstaltet von der Caritas-Gemeindesozialarbeit und der Pfarrei Heilig Geist in Kooperation mit Engagierten aus der Gemeinde St. Andreas und Matthias in Lich-Steinstraß. \nFür die Besucher gelten die aktuellen Corona-Schutzmaßnahmen (2G mit medizinischer Maske). \nWeitere Auskünfte erteilt Sarah Klotz (Caritas) unter der Telefonnummer 02461 / 9979312 oder per E-Mail an sklotz@caritas-dn.de \n
URL:https://www.herzog-magazin.de/event/fruehstueck-ab-55-im-andreas-haus/
LOCATION:Andreashaus\, Matthiasplatz\, Lich-Steinstraß\, NRW\, 52428\, Deutschland
GEO:50.9302356;6.3783497
X-APPLE-STRUCTURED-LOCATION;VALUE=URI;X-ADDRESS=Andreashaus Matthiasplatz Lich-Steinstraß NRW 52428 Deutschland;X-APPLE-RADIUS=500;X-TITLE=Matthiasplatz:geo:6.3783497,50.9302356
CATEGORIES:Essen & Trinken,Geschichte,kulturelle Bildung,Senioren,Vortrag
ATTACH;FMTTYPE=image/jpeg:https://www.herzog-magazin.de/wp-content/uploads/2022/04/HZG_Caritas-2.jpg
ORGANIZER;CN="Caritasverband%20f%C3%BCr%20die%20Region%20D%C3%BCren-J%C3%BClich%20e.V.":MAILTO:info@cv-dueren.de
END:VEVENT
END:VCALENDAR