    BEGIN:VCALENDAR
VERSION:2.0
PRODID:-//HERZOG Kultur- &amp; Stadtmagazin - ECPv4.9.2//NONSGML v1.0//EN
CALSCALE:GREGORIAN
METHOD:PUBLISH
X-WR-CALNAME:HERZOG Kultur- &amp; Stadtmagazin
X-ORIGINAL-URL:https://www.herzog-magazin.de
X-WR-CALDESC:Veranstaltungen im HERZOG Kultur- &amp; Stadtmagazin
BEGIN:VEVENT
DTSTART;TZID=Europe/Berlin:20260110T120000
DTEND;TZID=Europe/Berlin:20260110T120000
DTSTAMP:20260421T135727
CREATED:20250717T114059Z
LAST-MODIFIED:20260107T115455Z
UID:158013-1768046400-1768046400@www.herzog-magazin.de
SUMMARY:Führung durch die Propsteikirche
DESCRIPTION:Immer am 2. Samstag eines Monats findet eine geistliche Kirchenführung durch die Jülicher Propsteikirche statt. Start ist unter dem Kirchturm um 12 Uhr. Nach einer Einführung in die Geschichte und die Architektur des Kirchengebäudes wirft Kantor Christof Rück an diesem Samstag gemeinsam mit allen Interessierten einen eingehenden Blick auf die Vleugels-Orgel. \n
URL:https://www.herzog-magazin.de/event/fuehrung-durch-die-propsteikirche-2026-01-10/
LOCATION:Propsteikirche\, Kirchplatz\, Jülich\, NRW\, 52428\, Deutschland
GEO:50.9415142;6.3042468
X-APPLE-STRUCTURED-LOCATION;VALUE=URI;X-ADDRESS=Propsteikirche Kirchplatz Jülich NRW 52428 Deutschland;X-APPLE-RADIUS=500;X-TITLE=Kirchplatz:geo:6.3042468,50.9415142
CATEGORIES:für Familien,Kunst & Design,Religion,Senioren,Vortrag
ATTACH;FMTTYPE=image/jpeg:https://www.herzog-magazin.de/wp-content/uploads/2025/04/RadleuchterIMG_6391_web.jpg
ORGANIZER;CN="Hl.%20Maria%20Magdalena%20Aldenhoven%2FJ%C3%BClich":MAILTO:pfarramt@heilig-geist-juelich.de
END:VEVENT
END:VCALENDAR