    BEGIN:VCALENDAR
VERSION:2.0
PRODID:-//HERZOG Kultur- &amp; Stadtmagazin - ECPv4.9.2//NONSGML v1.0//EN
CALSCALE:GREGORIAN
METHOD:PUBLISH
X-WR-CALNAME:HERZOG Kultur- &amp; Stadtmagazin
X-ORIGINAL-URL:https://www.herzog-magazin.de
X-WR-CALDESC:Veranstaltungen im HERZOG Kultur- &amp; Stadtmagazin
BEGIN:VEVENT
DTSTART;TZID=Europe/Berlin:20191018T200000
DTEND;TZID=Europe/Berlin:20191018T200000
DTSTAMP:20260425T023330
CREATED:20190912T123939Z
LAST-MODIFIED:20190912T124303Z
UID:29044-1571428800-1571428800@www.herzog-magazin.de
SUMMARY:Funk\, Soul and more im Kulturbahnhof
DESCRIPTION:Funk\, Soul and more lautet ein Konzert mit den Bands Pretty Line (Duisburg)\, 6aus49 (Jülich) und Challenge (Eindhoven\, NL) am Freitag\, 18. Oktober\, 20:00 Uhr im Jülicher Kulturbahnhof. 6aus49 „back on stage with friends and more“ im Kuba am 18.10.2019\nZum dritten Mal ist 6aus49 „back on stage“ im Kuba; diesmal „with friends and more“. \n„With friends“ ist bei diesem Konzert wörtlich gemeint\, da Hajo Hintzen (Gitarrist von 6aus49) seinen langjährigen Freund Dirk Sprotte mit der Band Pretty Line und den Ex-Jülicher Oliver Pritsch mit der Band Challenge nach Jülich holt. Funk – Soul – And More ist die Mischung von 6aus49\, die die Luft mit souligen grooves heißer werden lässt. Mit Stücken von Randy Crawford\, Incognito\, Tower of Power und Stevie Wonder stellt die Band fünfstimmige Bläsersätze und mehrstimmigen Gesang in den Mittelpunkt. \nretty Line sind: eine soulige Stimme\, groovige Beats und eine funkige Gitarre und Bass aus dem westlichen Ruhrgebiet. Mit Stücken von Little Feat\, Al Jarreau und funkigen Bearbeitungen von Ellington und Gershwin zeigt die Band eine große Spannbreite und bringt ihre Lieblingsstücke auf die Bühne.  \nChallenge ist eine neunköpfige Band aus Eindhoven (NL)\, die mit ihrem Bläsertrio die Bühne zum Grooven bringt. Das Repertoire reicht von Bruno Mars über Donna Summer bis Joss Stone. Oliver Pritsch\, Bassist der Band\, ist gebürtiger Jülicher und kehrt nach über 20 Jahren an den Beginn seiner musikalischen Laufbahn zurück. \nBeginn ist um 20:00 Uhr\, Einlass wird ab 19:30 Uhr gewährt. Tickets sind zu 10 Euro zuzüglich Gebühr im Vorverkauf bei der Buchhandlung Thalia\, Kölnstraße 9\, und online unter http://www.ztix.de/event.php/135197 erhältlich\nsowie an der Abendkasse zu 13 Euro. Schüler und Studenten zahlen nur 5 Euro (an der Abendkasse). \n
URL:https://www.herzog-magazin.de/event/funk-soul-and-more-im-kulturbahnhof/
LOCATION:Kulturbahnhof (KuBa) Jülich\, Bahnhofsstraße 13\, Jülich\, NRW\, 52428\, Deutschland
GEO:50.91828;6.36768
X-APPLE-STRUCTURED-LOCATION;VALUE=URI;X-ADDRESS=Kulturbahnhof (KuBa) Jülich Bahnhofsstraße 13 Jülich NRW 52428 Deutschland;X-APPLE-RADIUS=500;X-TITLE=Bahnhofsstraße 13:geo:6.36768,50.91828
CATEGORIES:Musik,Musik & Konzerte
ATTACH;FMTTYPE=image/jpeg:https://www.herzog-magazin.de/wp-content/uploads/2019/09/Challenge-Coverband-Netz.jpg
END:VEVENT
END:VCALENDAR