    BEGIN:VCALENDAR
VERSION:2.0
PRODID:-//HERZOG Kultur- &amp; Stadtmagazin - ECPv4.9.2//NONSGML v1.0//EN
CALSCALE:GREGORIAN
METHOD:PUBLISH
X-WR-CALNAME:HERZOG Kultur- &amp; Stadtmagazin
X-ORIGINAL-URL:https://www.herzog-magazin.de
X-WR-CALDESC:Veranstaltungen im HERZOG Kultur- &amp; Stadtmagazin
BEGIN:VEVENT
DTSTART;TZID=Europe/Berlin:20230924T100000
DTEND;TZID=Europe/Berlin:20230924T180000
DTSTAMP:20260423T090101
CREATED:20230922T110952Z
LAST-MODIFIED:20230922T110952Z
UID:114887-1695549600-1695578400@www.herzog-magazin.de
SUMMARY:Garagentrödel in Stetternich
DESCRIPTION:Unter dem Motto: „Stetternich räumt auf im ganzen Dorf“ findet am Sonntag\, 24. September\, ein Garagentrödel statt. Der Trödel in Stetternich ist von 10 bis 18 Uhr geöffnet. Veranstalter ist eine eigens für den Zweck zusammengefundene Nachbarschaftsinitiative.  \nEs sind über 100 Haushalte beteiligt. Die teilnehmenden Häuser sind mit bunten Ballons zu erkennen. Vor Ort sind Flyer mit einer Straßenkarte\, auf der alle Stationen markiert sind\, erhältlich. Für das leibliche Wohl sorgt das ortsansässige Restaurant Zum Fehling.  \n
URL:https://www.herzog-magazin.de/event/garagentroedel-in-stetternich/
LOCATION:Stetternich\, Jülich-Stetternich\, NRW\, 52428\, Deutschland
CATEGORIES:Essen & Trinken,Festival & Markt,für Familien
ATTACH;FMTTYPE=image/jpeg:https://www.herzog-magazin.de/wp-content/uploads/2022/03/trödel.jpg
END:VEVENT
END:VCALENDAR