    BEGIN:VCALENDAR
VERSION:2.0
PRODID:-//HERZOG Kultur- &amp; Stadtmagazin - ECPv4.9.2//NONSGML v1.0//EN
CALSCALE:GREGORIAN
METHOD:PUBLISH
X-WR-CALNAME:HERZOG Kultur- &amp; Stadtmagazin
X-ORIGINAL-URL:https://www.herzog-magazin.de
X-WR-CALDESC:Veranstaltungen im HERZOG Kultur- &amp; Stadtmagazin
BEGIN:VEVENT
DTSTART;TZID=Europe/Berlin:20241116T160000
DTEND;TZID=Europe/Berlin:20241116T160000
DTSTAMP:20260422T093553
CREATED:20241104T070014Z
LAST-MODIFIED:20241104T093655Z
UID:70337-1731772800-1731772800@www.herzog-magazin.de
SUMMARY:Gedenken zum Volkstrauertag
DESCRIPTION:Am Vorabend des diesjährigen Volkstrauertages\, Samstag\, 16. November\, um 16 Uhr veranstaltet der Ortsverband des Volksbundes Deutsche Kriegsgräberfürsorge e.V. auf der Kriegsgräberstätte in Jülich\, Linnicher Straße\, eine Trauerfeier für die Toten beider Weltkriege. \nZu der Trauerfeier sind alle Bürgerinnen und Bürger der Stadt\, die Mitglieder der Verbände\, Vereinigungen und Vereine herzlich eingeladen. \n
URL:https://www.herzog-magazin.de/event/gedenken-zum-volkstrauertag/
LOCATION:NRW\, Deutschland
CATEGORIES:Geschichte,Informationsveranstaltung,kulturelle Bildung,Politik,Präsenz-Veranstaltung,Versammlungen
ATTACH;FMTTYPE=image/jpeg:https://www.herzog-magazin.de/wp-content/uploads/2021/11/ehrenfriedhofIMG_3716-1.jpg
END:VEVENT
END:VCALENDAR