    BEGIN:VCALENDAR
VERSION:2.0
PRODID:-//HERZOG Kultur- &amp; Stadtmagazin - ECPv4.9.2//NONSGML v1.0//EN
CALSCALE:GREGORIAN
METHOD:PUBLISH
X-WR-CALNAME:HERZOG Kultur- &amp; Stadtmagazin
X-ORIGINAL-URL:https://www.herzog-magazin.de
X-WR-CALDESC:Veranstaltungen im HERZOG Kultur- &amp; Stadtmagazin
BEGIN:VEVENT
DTSTART;TZID=Europe/Berlin:20190922T103000
DTEND;TZID=Europe/Berlin:20190922T200000
DTSTAMP:20260424T074638
CREATED:20190820T115409Z
LAST-MODIFIED:20190820T115409Z
UID:27687-1569148200-1569182400@www.herzog-magazin.de
SUMMARY:Gemeindefest in St. Adelgundis Koslar
DESCRIPTION:Das Gemeindefest in St. Adelgundis Koslar / Engelsdorf findet am Sonntag\, 22. September\, statt. Los geht es um 10.30 Uhr mit einem Familiengottesdienst. Anschließend wird rund um das Pfarrheim gefeiert. Es gibt eine Menge Spielmöglichkeiten\, eine Hüpfburgrutsche und eine Rallye für Kinder. Um 18 Uhr findet die Tombola statt. Es gibt Leckeres vom Grill\, Reibekuchen\, ein großes Kuchenbuffet und Waffeln.  \n
URL:https://www.herzog-magazin.de/event/gemeindefest-in-st-adelgundis-koslar/
LOCATION:Kirche St. Adelgundis\, Friedhofstraße\, Koslar\, NRW\, 52428\, Deutschland
GEO:50.9273881;6.3152879
X-APPLE-STRUCTURED-LOCATION;VALUE=URI;X-ADDRESS=Kirche St. Adelgundis Friedhofstraße Koslar NRW 52428 Deutschland;X-APPLE-RADIUS=500;X-TITLE=Friedhofstraße:geo:6.3152879,50.9273881
CATEGORIES:Festival & Markt,für Familien,für Jugendliche,für Kinder,Religion,Senioren
ATTACH;FMTTYPE=image/jpeg:https://www.herzog-magazin.de/wp-content/uploads/2019/01/koslar-kirche-IMG_8970.jpg
END:VEVENT
END:VCALENDAR