    BEGIN:VCALENDAR
VERSION:2.0
PRODID:-//HERZOG Kultur- &amp; Stadtmagazin - ECPv4.9.2//NONSGML v1.0//EN
CALSCALE:GREGORIAN
METHOD:PUBLISH
X-WR-CALNAME:HERZOG Kultur- &amp; Stadtmagazin
X-ORIGINAL-URL:https://www.herzog-magazin.de
X-WR-CALDESC:Veranstaltungen im HERZOG Kultur- &amp; Stadtmagazin
BEGIN:VEVENT
DTSTART;TZID=Europe/Berlin:20250504T110000
DTEND;TZID=Europe/Berlin:20250504T130000
DTSTAMP:20260420T131246
CREATED:20250429T094700Z
LAST-MODIFIED:20250429T095254Z
UID:146912-1746356400-1746363600@www.herzog-magazin.de
SUMMARY:Geschichte am Sonntag
DESCRIPTION:Der GaSt-Geber\, Förderverein Festung Zitadelle Jülich\, nimmt seine Führungen „Geschichte am Sonntag“ durch die Zitadelle an jedem ersten Sonntag eines Monats von April bis Oktober 2025 wieder auf. \nVorstandsmitglied Bernhard Dautzenberg geht mit seinen Gästen durch Bastionen\, Kasemattensysteme und Horchgänge. Der Verein weist darauf hin\, dass einige Stellen recht eng und niedrig sind\, so dass die Besichtigung nicht behindertengerecht sei. Der Führungsweg geht durch Gänge in der Johannes- und Mariannenbastion und endet in der Wilhelmusbastion. Streckenweise geht es auch oberirdisch weiter\, wobei sich großartige Ausblicke auftun. Festes Schuhwerk ist erforderlich. Taschenlampen sind wünschenswert. \nTreffpunkt für den gut anderthalbstündigen Rundgang ist vor der Pasqualini-Brücke. Es können 25 Interessierte teilnehmen. \n
URL:https://www.herzog-magazin.de/event/geschichte-am-sonntag-2022-08-07-copy/2025-05-04/
LOCATION:Pasqualini-Brücke\, Schlossplatz\, Jülich\, 52428\, Deutschland
CATEGORIES:Geschichte,kulturelle Bildung,Präsenz-Veranstaltung,Vortrag
ATTACH;FMTTYPE=image/jpeg:https://www.herzog-magazin.de/wp-content/uploads/2021/08/20210717-111304-c-Volker-Goebels-002-sRGB-herzog-1.jpg
END:VEVENT
END:VCALENDAR