    BEGIN:VCALENDAR
VERSION:2.0
PRODID:-//HERZOG Kultur- &amp; Stadtmagazin - ECPv4.9.2//NONSGML v1.0//EN
CALSCALE:GREGORIAN
METHOD:PUBLISH
X-WR-CALNAME:HERZOG Kultur- &amp; Stadtmagazin
X-ORIGINAL-URL:https://www.herzog-magazin.de
X-WR-CALDESC:Veranstaltungen im HERZOG Kultur- &amp; Stadtmagazin
BEGIN:VEVENT
DTSTART;TZID=Europe/Berlin:20221020T200000
DTEND;TZID=Europe/Berlin:20221020T200000
DTSTAMP:20260420T030329
CREATED:20220831T183316Z
LAST-MODIFIED:20221019T125820Z
UID:87503-1666296000-1666296000@www.herzog-magazin.de
SUMMARY:Gesellschaft Frohsinn im KuBa: verlegt
DESCRIPTION:Die Aufführungen von „Landeier oder… Bauern suchen Frauen“ der Gesellschaft Frohsinn Stetternich vom 20. bis zum 23. Oktober im Kulturbahnhof Jülich fallen komplett aufgrund von Corona Erkrankungen im Ensemble aus. Als neuer Termin stehen die Tage vom 13. bis 16. April 2023 im Raum. Alle Karten behalten für den jeweiligen Wochentag ihre Gültigkeit.\nDie Karten können auch bei der Gesellschaft Frohsinn zurückgegeben werden. \n„Landeier oder… Bauern suchen Frauen“ beschreibt das Theaterstück\, das nach zweijähriger Pause von der Gesellschaft Frohsinn Stetternich unter der Regie von Angelika Ponten auf die Bühne gebracht wird\, ziemlich gut. Im beschaulichen Stetternich führen die Helden dieser Komödie ein beschauliches Dasein.  \nAber etwas Entscheidendes fehlt: der passende Deckel zum Topf\, sprich Frauen. Aber woher nehmen? Sind Kontaktanzeigen noch angesagt? Sollte man Partnervermittlungen „mit Niveau“ ausprobieren? Oder bieten Chatrooms und Videoportale im Internet die zeitgemäße Möglichkeit\, Frauen für das Landleben samt ihrer Ureinwohner und deren Zeitvertreibe à la Treckertuning zu begeistern? Ob es den Landwirten aus Stetternich gelingen wird\, die Frau ihrer Träume zu finden? Traditionell werden diese Lieder- und Theaterabende musikalisch vom Männerchor unter Leitung von Inge Duwe eingerahmt.  \nTickets sind im Vorverkauf zu 10 Euro in der Passage Kleine Kölnstraße am 24. September erhältlich. Restkarten bei Cityfriseurin Dunja in Jülich\, Große Rurstraße 36. Ansonsten werden Infos zu Restkarten zu gegebener Zeit unter http://frohsinn-stetternich.de veröffentlicht. \n
URL:https://www.herzog-magazin.de/event/gesellschaft-frohsinn-im-kuba/2022-10-20/
LOCATION:Kulturbahnhof (KuBa) Jülich\, Bahnhofsstraße 13\, Jülich\, NRW\, 52428\, Deutschland
GEO:50.91828;6.36768
X-APPLE-STRUCTURED-LOCATION;VALUE=URI;X-ADDRESS=Kulturbahnhof (KuBa) Jülich Bahnhofsstraße 13 Jülich NRW 52428 Deutschland;X-APPLE-RADIUS=500;X-TITLE=Bahnhofsstraße 13:geo:6.36768,50.91828
CATEGORIES:Theater
ATTACH;FMTTYPE=image/jpeg:https://www.herzog-magazin.de/wp-content/uploads/2022/08/Gesellschaft-Frohsinn-Stetternich-Foto-Martyna-Pelzer-Netz.jpg
ORGANIZER;CN="Frohsinn%20Stetternich":MAILTO:info@frohsinn-stetternich.de
END:VEVENT
END:VCALENDAR