    BEGIN:VCALENDAR
VERSION:2.0
PRODID:-//HERZOG Kultur- &amp; Stadtmagazin - ECPv4.9.2//NONSGML v1.0//EN
CALSCALE:GREGORIAN
METHOD:PUBLISH
X-WR-CALNAME:HERZOG Kultur- &amp; Stadtmagazin
X-ORIGINAL-URL:https://www.herzog-magazin.de
X-WR-CALDESC:Veranstaltungen im HERZOG Kultur- &amp; Stadtmagazin
BEGIN:VEVENT
DTSTART;TZID=Europe/Berlin:20190928T084500
DTEND;TZID=Europe/Berlin:20190928T113000
DTSTAMP:20260420T195106
CREATED:20190912T084401Z
LAST-MODIFIED:20190912T084401Z
UID:29005-1569660300-1569670200@www.herzog-magazin.de
SUMMARY:GGS Jülich-West: Tag der offenen Tür
DESCRIPTION:Zum Tag der offenen Tür am Samstag\, 28. September\, freut sich die Grundschule Jülich-West in Koslar darauf\, viele kommende Schulneulinge von 8:45 bis 11:30 Uhr begrüßen zu dürfen. Alle Interessenten erhalten die Möglichkeit\, sich über das Schulprofil der Schule zu informieren\, mit dem pädagogischen Personal in einen offenen Austausch zu treten und von 9:00 bis 10:30 Uhr verschiedene Formen modernen Unterrichts kennen zu lernen. Für junge Gäste steht ein betreutes Spiel- und Bastelangebot zur Verfügung. In den Räumlichkeiten der OGS sorgt die Schulpflegschaft für das leibliche Wohl aller Besucher. \n
URL:https://www.herzog-magazin.de/event/ggs-juelich-west-tag-der-offenen-tuer/
LOCATION:GGS Jülich-West Koslar\, Lobsgasse 22\, Koslar\, NRW\, 52428\, Deutschland
CATEGORIES:für Kinder,Schule
ATTACH;FMTTYPE=image/jpeg:https://www.herzog-magazin.de/wp-content/uploads/2018/05/KoslarGrundschuleIMG_1665.jpg
END:VEVENT
END:VCALENDAR