    BEGIN:VCALENDAR
VERSION:2.0
PRODID:-//HERZOG Kultur- &amp; Stadtmagazin - ECPv4.9.2//NONSGML v1.0//EN
CALSCALE:GREGORIAN
METHOD:PUBLISH
X-WR-CALNAME:HERZOG Kultur- &amp; Stadtmagazin
X-ORIGINAL-URL:https://www.herzog-magazin.de
X-WR-CALDESC:Veranstaltungen im HERZOG Kultur- &amp; Stadtmagazin
BEGIN:VEVENT
DTSTART;TZID=Europe/Berlin:20220816T193000
DTEND;TZID=Europe/Berlin:20220816T193000
DTSTAMP:20260421T021430
CREATED:20220708T130738Z
LAST-MODIFIED:20220708T130751Z
UID:84035-1660678200-1660678200@www.herzog-magazin.de
SUMMARY:GKG Fidele Brüder Koslar: Versammlung
DESCRIPTION:Die GKG Fidele Brüder aus Koslar lädt alle ihre Mitglieder zur Jahreshauptversammlung am Dienstag\, 16. August\, um 19.30 Uhr in das Landhaus Blumenthal\, Theodor-Heuss Straße 50\, ein. Die Tagesordnung sieht neben einem Rückblick als Schwerpunkte die Tätigkeitsberichte des Vorstandes und der einzelnen Abteilungen\, den Geschäfts- und Kassenbericht sowie Satzungsänderungen vor.  \nWichtigster TOP der Versammlung ist die turnusmäßige Neuwahl des Vorstands. Hier stehen große Veränderungen an.  \nDie GKG bittet um zahlreiches Erscheinen seiner Mitglieder. Detailliertere Informationen zur Versammlung und zur GKG Fidele Brüder aus Koslar unter www.gkg-fidele-brueder-koslar.de. \n
URL:https://www.herzog-magazin.de/event/gkg-fidele-brueder-koslar-mitgliederversammlung/
LOCATION:Landhaus Blumenthal\, Theodor Heuss Straße 50\, Jülich\, 52428
CATEGORIES:Brauchtum,Versammlungen
ATTACH;FMTTYPE=image/jpeg:https://www.herzog-magazin.de/wp-content/uploads/2022/07/GKG-Fidele-Brueder-Koslar-Wappen-Netz.jpg
ORGANIZER;CN="Gro%C3%9Fe%20KG%20Fidele%20Br%C3%BCder%20Koslar%201926%20e.V.":MAILTO:info@gkg-fidele-brueder-koslar.de
END:VEVENT
END:VCALENDAR