    BEGIN:VCALENDAR
VERSION:2.0
PRODID:-//HERZOG Kultur- &amp; Stadtmagazin - ECPv4.9.2//NONSGML v1.0//EN
CALSCALE:GREGORIAN
METHOD:PUBLISH
X-WR-CALNAME:HERZOG Kultur- &amp; Stadtmagazin
X-ORIGINAL-URL:https://www.herzog-magazin.de
X-WR-CALDESC:Veranstaltungen im HERZOG Kultur- &amp; Stadtmagazin
BEGIN:VEVENT
DTSTART;TZID=Europe/Berlin:20220410T170000
DTEND;TZID=Europe/Berlin:20220410T170000
DTSTAMP:20260422T093132
CREATED:20220405T104820Z
LAST-MODIFIED:20220405T104820Z
UID:77087-1649610000-1649610000@www.herzog-magazin.de
SUMMARY:Glasmalerei-Museum: Klavierabend
DESCRIPTION:Einen Klavierabend mit Linlin He präsentiert das Deutsche Glasmalerei-Museum Linnich am Sonntag\, 10. April ab 17 Uhr. Einlass wird ab 16.30 Uhr gewährt. \nDie gebürtige Chinesin Linlin He hat viele öffentliche Konzerte in Asien und Europa gegeben. Zu den bemerkenswerten Sälen gehören unter anderem das Lee Foundation Theater\, die Esplanade Concert Hall\, die Victoria Concert Hall in Singapur\, die Melartin Hall in Finnland und die Duke´s Hall im Vereinigten Königreich. Sie trat in verschiedenen Besetzungen auf. Dazu gehören Soloauftritte\, Kammerkonzerte und die Begleitung von Chören. Derzeit erhält sie Privatunterricht bei der international tätigen Pianistin Xin Wang und macht ihren Bachelor-Abschluss an der Royal Academy of Music unter der Leitung von Mei-Tin Sun. \nLinlin He bereitet zudem zurzeit Kammer- sowie Solokonzerte in China und diversen europäischen Ländern vor und nimmt zusätzlich an internationalen Wettbewerben teil\, darunter das Windsor International Piano Competition und das Oleggio Piano Competition in diesem Jahr.\nDie Pianistin spielt die Sonata Op. 31 No. 1 in G Major von Beethoven\, die Sonata No. 2 in B-Flat Minor\, Op. 35\, von Chopin\, Prélude and Fugue in C-Sharp Major\, Book 1 von Bach sowie die Sonata No. 18 in G Major\, D. 894 von Schubert. \nKarten kosten im Vorverkauf 17 Euro (15 Euro ermäßigt)\, für Kinder zwischen sechs und zwölf Jahren 7 Euro. An der Abendkasse gelten die Preise für Erwachsene 19 Euro\, ermäßigt 17 Euro\, für Kinder zwischen sechs und zwölf Jahren 9 Euro. \nDie aktuellen Corona-Vorgaben sind zu beachten. Weitere Informationen unter www.glasmalerei-museum.de im Internet. \n
URL:https://www.herzog-magazin.de/event/glasmalerei-museum-klavierabend/
LOCATION:Deutsches Glasmalerei-Museum Linnich\, Rurstraße 9-11\, Linnich\, NRW\, 52441\, Deutschland
CATEGORIES:Musik,Musik & Konzerte
ATTACH;FMTTYPE=image/jpeg:https://www.herzog-magazin.de/wp-content/uploads/2022/04/Linlin-He-Netz.jpg
ORGANIZER;CN="Deutsches%20Glasmalerei-Museum%20Linnich":MAILTO:info@glasmalerei-museum.de
END:VEVENT
END:VCALENDAR