    BEGIN:VCALENDAR
VERSION:2.0
PRODID:-//HERZOG Kultur- &amp; Stadtmagazin - ECPv4.9.2//NONSGML v1.0//EN
CALSCALE:GREGORIAN
METHOD:PUBLISH
X-WR-CALNAME:HERZOG Kultur- &amp; Stadtmagazin
X-ORIGINAL-URL:https://www.herzog-magazin.de
X-WR-CALDESC:Veranstaltungen im HERZOG Kultur- &amp; Stadtmagazin
BEGIN:VEVENT
DTSTART;TZID=Europe/Berlin:20191006T170000
DTEND;TZID=Europe/Berlin:20191006T170000
DTSTAMP:20260420T084717
CREATED:20190925T100210Z
LAST-MODIFIED:20190925T100210Z
UID:29562-1570381200-1570381200@www.herzog-magazin.de
SUMMARY:Glasmalerei-Museum Linnich: Schumann-Konzert
DESCRIPTION:Das Deutsche Glasmalerei-Museum Linnich lädt zum Pianokonzert „Clara und Robert Schumann – ein Konzert zum 200. Geburtstag von Clara“ am Sonntag\, 6. Oktober\, um 17 Uhr ein. Nageeb Gardizi spielt am Konzertflügel C. Bechstein Werke des Ehepaares Schumann (unter anderem Carnaval op. 9). Durch den Abend führt Christoph Dohr. \nDie Veranstaltung gehört zu unserer Konzertreihe „Piano trifft Glasmalerei – beflügelt durch Museum“. Kooperationspartner der Konzertreihe sind das Pianomuseum Haus Eller\, der Förderverein Haus Eller e.V.\, der Stadtmarketingverein „Wir in Linnich“ e.V. und das Deutsche Glasmalerei Museum Linnich. Besonderes Highlight ist der jüngst generalüberholte 105 Jahre alte Bechstein C-Flügel\, der dem Museum als Leihgabe des Pianomuseums Haus Eller zur Verfügung gestellt wurde.  \nHinweis: Seit Ende August 2017 wird die Rurstraße vor dem Museumsgebäude saniert. Wegen der Baustelle kann es zeitweise zur Beeinträchtigung des Zugangs zum Museum für gehbehinderte Personen kommen. Kostenlose Parkmöglichkeiten gibt es auf dem Place des Lesquin (etwa sechs Gehminuten) und auf dem Kirchplatz (etwa zwei Gehminuten). Auf dem Kirchplatz ist die Parkdauer von maximal zwei Stunden mit Parkscheibe zu beachten. \n
URL:https://www.herzog-magazin.de/event/glasmalerei-museum-linnich-schumann-konzert/
LOCATION:Deutsches Glasmalerei-Museum Linnich\, Rurstraße 9-11\, Linnich\, NRW\, 52441\, Deutschland
CATEGORIES:Musik,Musik & Konzerte
ATTACH;FMTTYPE=image/jpeg:https://www.herzog-magazin.de/wp-content/uploads/2019/06/gardizi_nageebs-loft2-netz.jpg
ORGANIZER;CN="Wir%20in%20Linnich":MAILTO:kultusommer@wirinlinnich.de
END:VEVENT
END:VCALENDAR