    BEGIN:VCALENDAR
VERSION:2.0
PRODID:-//HERZOG Kultur- &amp; Stadtmagazin - ECPv4.9.2//NONSGML v1.0//EN
CALSCALE:GREGORIAN
METHOD:PUBLISH
X-WR-CALNAME:HERZOG Kultur- &amp; Stadtmagazin
X-ORIGINAL-URL:https://www.herzog-magazin.de
X-WR-CALDESC:Veranstaltungen im HERZOG Kultur- &amp; Stadtmagazin
BEGIN:VEVENT
DTSTART;TZID=Europe/Berlin:20221204T113000
DTEND;TZID=Europe/Berlin:20221204T140000
DTSTAMP:20260425T192351
CREATED:20221129T162249Z
LAST-MODIFIED:20221129T162249Z
UID:94546-1670153400-1670162400@www.herzog-magazin.de
SUMMARY:Glasmalerei-Museum: Nikolauswerkstatt
DESCRIPTION:Familienführung und Workshop für Kinder ab 6 Jahren als Nikolauswerkstatt im Deutschen Glasmalerei-Museum Linnich: Erstmalig findet am Sonntag\, 4. Dezember\, von 11.30 bis 14 Uhr die Führung „Glasmalerei – mal nachgefragt: Kinder sehen mehr“ mit einem Mutter-Tochter-Gespann als Führerinnen statt. Kleine und große Museumsbesucher können die Glaskunst mal aus der Perspektive des jeweils anderen erleben. Fragen und Ansichten können gestellt und geäußert werden und führen sicher zu bemerkenswerten und überraschenden Ergebnissen. \nAnschließend besteht die Möglichkeit\, eine gläserne Kleinigkeit (zum Beispiel Windlicht\, Bild\, Spiegel) in der Technik der Glascollage zu fertigen. Interessierte Besucher sind willkommen\, auch nach der Führung ausschließlich am Workshop teilzunehmen (Die Museumswerkstatt bleibt bis 14 Uhr geöffnet). \nEs wird eine Gebühr von 12 Euro inklusive Führung und Material für ein Glaswerk (jedes weitere Glaswerk 5 Euro) erhoben. Bei alleinigem Besuch der Werkstatt enstehten ein Kostenbeitrag von 5 Euro pro Glaswerk. \nAnmeldungen sind unter Telefon 02462 / 9917-0 oder per E-Mail an info@glasmalerei-museum.de abzugeben. \n
URL:https://www.herzog-magazin.de/event/glasmalerei-museum-nikolauswerkstatt/
LOCATION:Deutsches Glasmalerei-Museum Linnich\, Rurstraße 9-11\, Linnich\, NRW\, 52441\, Deutschland
CATEGORIES:kulturelle Bildung,Kunst & Design,Workshop
ATTACH;FMTTYPE=image/jpeg:https://www.herzog-magazin.de/wp-content/uploads/2022/11/Deutsches-Glasmalerei-Museum-Linnich_Nikolauswerkstatt.jpg
ORGANIZER;CN="Deutsches%20Glasmalerei-Museum%20Linnich":MAILTO:info@glasmalerei-museum.de
END:VEVENT
END:VCALENDAR