    BEGIN:VCALENDAR
VERSION:2.0
PRODID:-//HERZOG Kultur- &amp; Stadtmagazin - ECPv4.9.2//NONSGML v1.0//EN
CALSCALE:GREGORIAN
METHOD:PUBLISH
X-WR-CALNAME:HERZOG Kultur- &amp; Stadtmagazin
X-ORIGINAL-URL:https://www.herzog-magazin.de
X-WR-CALDESC:Veranstaltungen im HERZOG Kultur- &amp; Stadtmagazin
BEGIN:VEVENT
DTSTART;TZID=Europe/Berlin:20191011T180000
DTEND;TZID=Europe/Berlin:20191011T180000
DTSTAMP:20260424T232259
CREATED:20190926T074752Z
LAST-MODIFIED:20190926T075639Z
UID:29611-1570816800-1570816800@www.herzog-magazin.de
SUMMARY:Glasmalereimuseum Linnich: Auswahl aus 10 Jahren Skulpturenweg
DESCRIPTION:„42 Künstler – 42 Fotos – 1 Stele“ lautet das Motto einer Foto-Ausstellung mit einer Auswahl aus zehn Jahren Skulpturenweg an der Rur\, die am Freitag\, 11. Oktober\, um 18:00 Uhr im Deutschen Glasmalereimuseum Linnich eröffnet wird. Bis zum 27. Oktober sind die Beiträge des Skulpturenwegs an der Rur zwischen 2009 und 2019 zu den Öffnungszeiten dienstags bis sonntags von 11:00 bis 17:00 Uhr zu sehen. Die Ausstellung findet unter Beteiligung des Deutschen Glasmalereimuseums unterstützt vom Verein „Wir in Linnich“ statt. \n
URL:https://www.herzog-magazin.de/event/glasmalereimuseum-linnich-auswahl-aus-10-jahren-skulpturenweg/2019-10-11/
LOCATION:Deutsches Glasmalerei-Museum Linnich\, Rurstraße 9-11\, Linnich\, NRW\, 52441\, Deutschland
CATEGORIES:Ausstellung,Kunst & Design
ATTACH;FMTTYPE=image/jpeg:https://www.herzog-magazin.de/wp-content/uploads/2019/09/fotoskulpturenflyer1-Netz-1.jpg
ORGANIZER;CN="Wir%20in%20Linnich":MAILTO:kultusommer@wirinlinnich.de
END:VEVENT
END:VCALENDAR