    BEGIN:VCALENDAR
VERSION:2.0
PRODID:-//HERZOG Kultur- &amp; Stadtmagazin - ECPv4.9.2//NONSGML v1.0//EN
CALSCALE:GREGORIAN
METHOD:PUBLISH
X-WR-CALNAME:HERZOG Kultur- &amp; Stadtmagazin
X-ORIGINAL-URL:https://www.herzog-magazin.de
X-WR-CALDESC:Veranstaltungen im HERZOG Kultur- &amp; Stadtmagazin
BEGIN:VEVENT
DTSTART;TZID=Europe/Berlin:20210525T190000
DTEND;TZID=Europe/Berlin:20210525T190000
DTSTAMP:20260421T204258
CREATED:20210523T154106Z
LAST-MODIFIED:20210523T154158Z
UID:58394-1621969200-1621969200@www.herzog-magazin.de
SUMMARY:Udo Lenzig über Hans Jonas
DESCRIPTION:„Gottesbegriff nach Auschwitz“ von Hans Jonas ist Thema beim Video-Gespräch der Evangelischen Gemeinde zu Düren am Dienstag\, 25. Mai\, 19 Uhr. In der Reihe von Video-Gesprächen zu der Frage „Warum lässt Gott das Übel zu?“ geht es am Dienstag nach Pfingsten\, dem 25. Mai\, um einen Vortrag des jüdischen Religionsphilosophen Hans Jonas\, den er 1984 über den „Gottesbegriff nach Auschwitz“ an der Universität Heidelberg gehalten hat. Der Schrecken von Auschwitz: „Und Gott ließ es geschehen. Was für ein Gott konnte es geschehen lassen?“  \nHans Jonas bietet mit seinem Essay eine Antwort auf die klassische und immer wieder neu herausfordernde Frage nach dem Leid in der Welt angesichts eines Gottes\, von dem wir glauben\, dass es das Gute und das Leben will. Jonas spricht Gott mit guten Gründen das Attribut der Allmacht ab und überträgt damit die Verantwortung für das Leid in der Welt von Gott auf den Menschen\, denn: „Nachdem er sich ganz in die werdende Welt hineingab\, hat Gott nichts mehr zu geben: Jetzt ist es am Menschen\, ihm zu geben.“ \nReferent ist der Jülicher Pfarrer Dr. Udo Lenzig\, der über Hans Jonas promoviert worden ist. Der Vortragsabend beginnt um 19 Uhr und findet als Zoom-Veranstaltung statt. Interessenten können sich den Link zumailen lassen\, wenn Sie eine Email senden an Dirk Chr. Siedler\, DC.Siedler@web.de. \n
URL:https://www.herzog-magazin.de/event/gottesbegriff-nach-auschwitz-von-hans-jonas/
LOCATION:NRW\, Deutschland
CATEGORIES:Online-Veranstaltung,Religion,Vortrag
ATTACH;FMTTYPE=image/jpeg:https://www.herzog-magazin.de/wp-content/uploads/2021/05/Pfr.UdoLenzig.jpg
ORGANIZER;CN="Evangelische%20Kirchengemeinde%20D%C3%BCren":MAILTO:mail@evangelische-gemeinde-dueren.de
END:VEVENT
END:VCALENDAR