    BEGIN:VCALENDAR
VERSION:2.0
PRODID:-//HERZOG Kultur- &amp; Stadtmagazin - ECPv4.9.2//NONSGML v1.0//EN
CALSCALE:GREGORIAN
METHOD:PUBLISH
X-WR-CALNAME:HERZOG Kultur- &amp; Stadtmagazin
X-ORIGINAL-URL:https://www.herzog-magazin.de
X-WR-CALDESC:Veranstaltungen im HERZOG Kultur- &amp; Stadtmagazin
BEGIN:VEVENT
DTSTART;TZID=Europe/Berlin:20221023T190000
DTEND;TZID=Europe/Berlin:20221023T190000
DTSTAMP:20260421T045924
CREATED:20221016T113355Z
LAST-MODIFIED:20221016T113447Z
UID:91081-1666551600-1666551600@www.herzog-magazin.de
SUMMARY:Gottesdienst mit Feuerzangenbowle
DESCRIPTION:Der Neue Sonntagabend Gottesdienst ist immer etwas anders. Diesmal bereitet die KSG Jülich am Sonntag\, 23. Oktober\, einen Feuerzangenbowle Gottesdienst vor.  \nGetreu dem Filmzitat: „Da stellen wir uns mal ganz dumm“ wird nach den Grundlagen des christlichen Glaubens gefragt. Am Ende des Gottesdienstes gibt es auch eine richtige Feuerzangenbowle. \n
URL:https://www.herzog-magazin.de/event/gottesdienst-mit-feuerzangenbowle/
LOCATION:Propsteipfarrkirche St.Mariä Himmelfahrt\, Stiftsherrenstraße 15\, Jülich\, NRW\, 52428\, Deutschland
GEO:50.9214998;6.3593009
X-APPLE-STRUCTURED-LOCATION;VALUE=URI;X-ADDRESS=Propsteipfarrkirche St.Mariä Himmelfahrt Stiftsherrenstraße 15 Jülich NRW 52428 Deutschland;X-APPLE-RADIUS=500;X-TITLE=Stiftsherrenstraße 15:geo:6.3593009,50.9214998
CATEGORIES:Religion
ATTACH;FMTTYPE=image/jpeg:https://www.herzog-magazin.de/wp-content/uploads/2022/10/Propsteikirche1-1.jpg
ORGANIZER;CN="KSG%20J%C3%BClich":MAILTO:ksg.juelich@fh-aachen.de
END:VEVENT
END:VCALENDAR