    BEGIN:VCALENDAR
VERSION:2.0
PRODID:-//HERZOG Kultur- &amp; Stadtmagazin - ECPv4.9.2//NONSGML v1.0//EN
CALSCALE:GREGORIAN
METHOD:PUBLISH
X-WR-CALNAME:HERZOG Kultur- &amp; Stadtmagazin
X-ORIGINAL-URL:https://www.herzog-magazin.de
X-WR-CALDESC:Veranstaltungen im HERZOG Kultur- &amp; Stadtmagazin
BEGIN:VEVENT
DTSTART;TZID=Europe/Berlin:20250507T090000
DTEND;TZID=Europe/Berlin:20250507T170000
DTSTAMP:20260422T145506
CREATED:20250429T115828Z
LAST-MODIFIED:20250429T115828Z
UID:146952-1746608400-1746637200@www.herzog-magazin.de
SUMMARY:Gründungssprechtag der Wirtschaftsförderung
DESCRIPTION:Jungunternehmer und Gründer haben am Mittwoch\, 7. Mai\, von 9 bis 17 Uhr erneut die Gelegenheit\, sich kostenfrei und individuell von der Wirtschaftsförderung des Kreises Düren beraten zu lassen. \nInteressierte erhalten im Technologiezentrum Jülich (TZ) neben allgemeinen Informationen zum Thema Unternehmensgründung und -sicherung auch konkrete Hinweise zu besonderen Gründungsvoraussetzungen\, zu möglichen Förderungs- und Finanzierungsmöglichkeiten sowie Kontakte zu Netzwerkpartnern. \nHinsichtlich einer Existenzgründung\, Unternehmertum und Unternehmensnachfolge können sich schließlich verschiedene Fragen ergeben. Wie entsteht aus einer Gründungsidee ein konkreter Geschäftsplan? Welche Kosten sind zu berücksichtigen? Wo finde ich nützliche Informationen und Partner? Wer hilft mir bei Finanzierungs- und Förderanfragen? Ist mein Konzept umsetzbar und tragfähig? \nGenau hier setzt das Unterstützungsangebot der Gründungsexpertinnen des Kreises Düren\, Birgit Müller-Langohr und Elke Mehl\, – auch für das Startercenter NRW tätig – an. Die Beraterinnen informieren\, klären im Gespräch konkrete Fragen oder zeigen mögliche neue Wege zur Zielerreichung auf. \nFür einen individuellen\, einstündigen und kostenfreien Beratungstermin ist eine vorherige Anmeldung bei Elke Mehl\, Abteilung Wirtschaft und Tourismus\, unter 02421/22 1061 211 oder per E-Mail an e.mehl@kreis-dueren.de erforderlich. \n
URL:https://www.herzog-magazin.de/event/gruendungssprechtag-der-wirtschaftsfoerderung/
LOCATION:Technologiezentrum Jülich (TZJ)\, Karlheinz-Beckurtz-Straße 13\, Jülich\, NRW\, 52428\, Deutschland
GEO:50.9097212;6.3812606
X-APPLE-STRUCTURED-LOCATION;VALUE=URI;X-ADDRESS=Technologiezentrum Jülich (TZJ) Karlheinz-Beckurtz-Straße 13 Jülich NRW 52428 Deutschland;X-APPLE-RADIUS=500;X-TITLE=Karlheinz-Beckurtz-Straße 13:geo:6.3812606,50.9097212
CATEGORIES:Informationsveranstaltung,Sonstiges,Wirtschaft
ATTACH;FMTTYPE=image/jpeg:https://www.herzog-magazin.de/wp-content/uploads/2023/05/Kreis-Dueren-2021-Logo-PUR-WEB.jpg
ORGANIZER;CN="Kreis%20D%C3%BCren":MAILTO:mail@kreis-dueren.de
END:VEVENT
END:VCALENDAR