    BEGIN:VCALENDAR
VERSION:2.0
PRODID:-//HERZOG Kultur- &amp; Stadtmagazin - ECPv4.9.2//NONSGML v1.0//EN
CALSCALE:GREGORIAN
METHOD:PUBLISH
X-WR-CALNAME:HERZOG Kultur- &amp; Stadtmagazin
X-ORIGINAL-URL:https://www.herzog-magazin.de
X-WR-CALDESC:Veranstaltungen im HERZOG Kultur- &amp; Stadtmagazin
BEGIN:VEVENT
DTSTART;TZID=Europe/Berlin:20230521T200000
DTEND;TZID=Europe/Berlin:20230521T200000
DTSTAMP:20260421T100526
CREATED:20230406T141503Z
LAST-MODIFIED:20230406T141503Z
UID:104162-1684699200-1684699200@www.herzog-magazin.de
SUMMARY:Guadagnini Trio bei den Schlosskonzerten
DESCRIPTION:Beim letzten Schlosskonzert der Saison am Sonntag\, 21. Mai um 20 Uhr ist ein international renommiertes Klavier-Trio aus Darmstadt\, der Heimat von der Künstlerischen Leiterin Susanne Trinkaus der Jülicher Schlosskonzerte\, zu Gast. Das Guadagnini Trio wird in der Schlosskapelle das erste Klavierquartett von Brahms und das Klavierquintett in A-Dur von Dvořák aufführen.  \nErmöglicht wird das anspruchsvolle Programm durch eine besondere Musiker-Freundschaft\, die das Trio mit Susanne Trinkaus (Viola) verbindet. Gemeinsam mit ihrem Partner Hans Otto Horch (2. Violine) wird so das Trio zum Quartett beziehungsweise Quintett erweitert.  \nWenige Restkarten zu 15 Euro sind im online-Vorverkauf unter tickets@schlosskonzerte-juelich.de oder zu 17\,50 Euro an der Abendkasse erhältlich. \n
URL:https://www.herzog-magazin.de/event/guadagnini-trio-bei-den-schlosskonzerten/
LOCATION:Schlosskapelle der Zitadelle\, Schloßstraße\, Jülich\, NRW\, 52428\, Deutschland
CATEGORIES:Musik,Musik & Konzerte
ATTACH;FMTTYPE=image/jpeg:https://www.herzog-magazin.de/wp-content/uploads/2023/03/Schlosskapelle.jpg
ORGANIZER;CN="J%C3%BClicher%20Schlosskonzerte%20e.V.":MAILTO:dr.weitz@gmail.com
END:VEVENT
END:VCALENDAR