    BEGIN:VCALENDAR
VERSION:2.0
PRODID:-//HERZOG Kultur- &amp; Stadtmagazin - ECPv4.9.2//NONSGML v1.0//EN
CALSCALE:GREGORIAN
METHOD:PUBLISH
X-WR-CALNAME:HERZOG Kultur- &amp; Stadtmagazin
X-ORIGINAL-URL:https://www.herzog-magazin.de
X-WR-CALDESC:Veranstaltungen im HERZOG Kultur- &amp; Stadtmagazin
BEGIN:VEVENT
DTSTART;TZID=Europe/Berlin:20191107T083000
DTEND;TZID=Europe/Berlin:20191107T103000
DTSTAMP:20260421T145942
CREATED:20191014T110435Z
LAST-MODIFIED:20191120T124042Z
UID:30135-1573115400-1573122600@www.herzog-magazin.de
SUMMARY:GUNDERMANN - Filmfrühstück
DESCRIPTION:Biographie\, Drama\, Musik | Deutschland 2018 | FSK: ab 0 | Regie: Andreas Dresen | Darsteller: Alexander Scheer\, Anna Unterberger\, Axel Prahl\, Milan Peschel\, Bjarne Mädel\, Alexander Schubert \nGUNDERMANN erzählt von einem Baggerfahrer\, der Lieder schreibt. Der ein Poet ist\, ein Clown und ein Idealist. Der träumt und hofft und liebt und kämpft. Ein Spitzel\, der bespitzelt wird. Ein Weltverbesserer\, der es nicht besser weiß. Ein Zerrissener. GUNDERMANN ist Liebes- und Musikfilm\, Drama über Schuld und Verstrickung\, eine Geschichte vom Verdrängen und Sich-Stellen. GUNDERMANN ist ein Film über Heimat. Er blickt noch einmal neu auf ein verschwundenes Land. Es ist nicht zu spät dafür. Es ist an der Zeit. \nMit feinem Gespür\, Zärtlichkeit und Humor wirft Regisseur Andreas Dresen in GUNDERMANN einen Blick auf das Leben von Gerhard „Gundi“ Gundermann\, einem der prägendsten Künstler der Nachwendezeit. Er starb 1998\, mit gerade einmal 43 Jahren. \n„Bei Andreas Dresen ist man immer „mittendrin statt nur dabei“. Im Falle von „Gundermann“ erleben wir hautnah und ungekünstelt\, was es bedeutet\, seine Vergangenheit zu verdrängen und was passiert\, wenn sie uns über Umwege doch heimsucht. Im Mittelpunkt der Erzählung: Alexander Scheer als Liedermacher und Ex-Stasi-Spitzel Gerhard Gundermann.“ (programmkino.de) \nKooperation mit dem Evangelischen Erwachsenenbildungswerk im Kirchenkreis Jülich. \n
URL:https://www.herzog-magazin.de/event/gundermann-filmfruehstueck/
LOCATION:Kulturbahnhof (KuBa) Jülich\, Bahnhofsstraße 13\, Jülich\, NRW\, 52428\, Deutschland
GEO:50.91828;6.36768
X-APPLE-STRUCTURED-LOCATION;VALUE=URI;X-ADDRESS=Kulturbahnhof (KuBa) Jülich Bahnhofsstraße 13 Jülich NRW 52428 Deutschland;X-APPLE-RADIUS=500;X-TITLE=Bahnhofsstraße 13:geo:6.36768,50.91828
CATEGORIES:Kino
ATTACH;FMTTYPE=image/jpeg:https://www.herzog-magazin.de/wp-content/uploads/2019/10/maxresdefault-4.jpg
ORGANIZER;CN="KuBa%20J%C3%BClich":MAILTO:info@kuba-juelich.de
END:VEVENT
END:VCALENDAR