    BEGIN:VCALENDAR
VERSION:2.0
PRODID:-//HERZOG Kultur- &amp; Stadtmagazin - ECPv4.9.2//NONSGML v1.0//EN
CALSCALE:GREGORIAN
METHOD:PUBLISH
X-WR-CALNAME:HERZOG Kultur- &amp; Stadtmagazin
X-ORIGINAL-URL:https://www.herzog-magazin.de
X-WR-CALDESC:Veranstaltungen im HERZOG Kultur- &amp; Stadtmagazin
BEGIN:VEVENT
DTSTART;TZID=Europe/Berlin:20241119T183000
DTEND;TZID=Europe/Berlin:20241119T183000
DTSTAMP:20260422T142651
CREATED:20241107T072929Z
LAST-MODIFIED:20241107T115040Z
UID:91907-1732041000-1732041000@www.herzog-magazin.de
SUMMARY:Haus Overbach: Infoabend und offene Tür
DESCRIPTION:Informationsabend und „Tag der offenen Tür“ am Gymnasium Haus Overbach:Das Gymnasium Haus Overbach in Jülich-Barmen öffnet seine Türen für Eltern mit Grundschulkindern im vierten Schuljahr. \nAm 19. November 2024 bietet das Gymnasium um 18:30 Uhr in der Aula eine Informationsveranstaltung für Eltern an\, wozu die erziehungsberechtigten Personen herzlich eingeladen sind. Der Schulleiter\, Herr Thorsten Vogelsang\, wird gemeinsam mit Frau Vaeßen (Leiterin der Unterstufe) unter anderem über das pädagogische Konzept und die Profile des Gymnasiums informieren. \nGanz herzlich werden interessierte Kinder aus den vierten Klassen zudem zu einem Besuch unseres Gymnasiums am 23. November 2024 eingeladen. An diesem Tag werden für die Erwachsenen Elternführungen angeboten und die Kinder können die Schule in einer Schülerrallye erkunden. Zwischen 09:00 Uhr und 12:00 Uhr wird es an diesem Tag eine Geschwisterbetreuung im Waldhaus für jüngere Kinder geben. Weitere Informationen können der Homepage der Schule entnommen werden. Schon jetzt weisen wir aber gerne darauf hin\, dass sich der Kinderchor unter der Leitung von Kerry Jago sehr darüber freuen wird\, wenn zahlreiche Besucherinnen und Besucher seinem Auftritt\, der um 12:00 Uhr in der Klosterkirche stattfinden wird\, lauschen werden. \nSowohl für die Informationsveranstaltung am 19. November 2024 als auch für den Tag der offenen Tür am 23. November 2024 wird um eine vorherige Anmeldung über die Schulhomepage gebeten. \nAm Tag der offenen Tür informiert auch der Oberstufenkoordinator\, Herr Sebastian Vaeßen\, ältere Schülerinnen und Schüler sowie ihre Eltern gerne über die Oberstufe. Diesbezüglich wird um eine Terminvereinbarung unter der folgenden E-Mail-Adresse gebeten: sebastian.vaessen@gymnasium-over-bach.de. \nDie Schulgemeinde des Gymnasiums Haus Overbach freut sich über viele interessierte Eltern und Kinder. \n
URL:https://www.herzog-magazin.de/event/gymnasium-overbach-infoabend-und-offene-tuer/2024-11-19/
LOCATION:Gymnasium Haus Overbach\, Franz-von-Sales Weg 1\, Jülich\, NRW\, 52428\, Deutschland
GEO:50.9418606;6.305797
X-APPLE-STRUCTURED-LOCATION;VALUE=URI;X-ADDRESS=Gymnasium Haus Overbach Franz-von-Sales Weg 1 Jülich NRW 52428 Deutschland;X-APPLE-RADIUS=500;X-TITLE=Franz-von-Sales Weg 1:geo:6.305797,50.9418606
CATEGORIES:Informationsveranstaltung,Schule
ATTACH;FMTTYPE=image/jpeg:https://www.herzog-magazin.de/wp-content/uploads/2022/10/Tag-der-offenen-Tür_Foto-GHO.jpg
ORGANIZER;CN="Gymnasium%20Haus%20Overbach":MAILTO:mail@gymnasium-overbach.de
END:VEVENT
END:VCALENDAR