    BEGIN:VCALENDAR
VERSION:2.0
PRODID:-//HERZOG Kultur- &amp; Stadtmagazin - ECPv4.9.2//NONSGML v1.0//EN
CALSCALE:GREGORIAN
METHOD:PUBLISH
X-WR-CALNAME:HERZOG Kultur- &amp; Stadtmagazin
X-ORIGINAL-URL:https://www.herzog-magazin.de
X-WR-CALDESC:Veranstaltungen im HERZOG Kultur- &amp; Stadtmagazin
BEGIN:VEVENT
DTSTART;TZID=Europe/Berlin:20221126T090000
DTEND;TZID=Europe/Berlin:20221126T090000
DTSTAMP:20260422T214540
CREATED:20241104T101246Z
LAST-MODIFIED:20241104T101246Z
UID:135154-1669453200-1669453200@www.herzog-magazin.de
SUMMARY:Gymnasium Zitadelle: Tag der offenen Tür Kopieren
DESCRIPTION:Das Gymnasium Zitadelle lädt Schülerinnen und Schüler der 4. Klassen sowie alle Interessierte am Samstag\, 26. November\, zum Tag der offenen Tür unter dem Motto „Modernes Lernen in der historischen Festung“ ein. Die Besucher werden ab 8.30 Uhr im Pädagogischen Zentrum (PZ) der Zitadelle begrüßt.  \nEine Teilnahme an allen Veranstaltungen ist nur nach Voranmeldung unter www.gymzit.de/tdot möglich. Es gilt die aktuelle Corona-Schutzverordnung. Aus Infektionsschutzgründen wird das Tragen einer Maske dringend empfohlen. \nZu den um 9 beziehungsweise 10.30 Uhr beginnenden Informationsveranstaltungen mit anschließendem Erlebnis-Schulrundgang können sich alle Interessierten anmelden. Die Schulleitung und die Erprobungsstufenkoordinatorin informieren über wesentliche Fragen zum erfolgreichen Lernen am Gymnasium Zitadelle.  \nWährend der Informationsveranstaltungen für Erziehungsberechtigte im PZ erhalten die Kinder im Rahmen eines Kinderprogramms erste Einblicke in den Schulalltag des Gymnasiums Zitadelle. In den im Anschluss stattfindenden Erlebnis-Schulrundgängen wird allen Interessierten die Möglichkeit gegeben\, den Schulcampus näher kennenzulernen sowie mit den Lehrerinnen und Lehrern ins Gespräch zu kommen. \nWeitere Informationen sind auf der Schulhomepage www.gymnasium-zitadelle.de zu finden. \n
URL:https://www.herzog-magazin.de/event/gymnasium-zitadelle-offene-tuer-copy/
LOCATION:Gymnasium Zitadelle\, Zitadelle\, Jülich\, NRW\, 52428\, Deutschland
GEO:50.925533;6.360285
X-APPLE-STRUCTURED-LOCATION;VALUE=URI;X-ADDRESS=Gymnasium Zitadelle Zitadelle Jülich NRW 52428 Deutschland;X-APPLE-RADIUS=500;X-TITLE=Zitadelle:geo:6.360285,50.925533
CATEGORIES:Informationsveranstaltung,Schule
ATTACH;FMTTYPE=image/jpeg:https://www.herzog-magazin.de/wp-content/uploads/2022/11/Zitadelle-Ostfassade-mit-Schnee-Foto-Dirk-Neumann.jpg
ORGANIZER;CN="Gymnasium%20Zitadelle%20J%C3%BClich":MAILTO:info@gymnasium-zitadelle.de
END:VEVENT
END:VCALENDAR