    BEGIN:VCALENDAR
VERSION:2.0
PRODID:-//HERZOG Kultur- &amp; Stadtmagazin - ECPv4.9.2//NONSGML v1.0//EN
CALSCALE:GREGORIAN
METHOD:PUBLISH
X-WR-CALNAME:HERZOG Kultur- &amp; Stadtmagazin
X-ORIGINAL-URL:https://www.herzog-magazin.de
X-WR-CALDESC:Veranstaltungen im HERZOG Kultur- &amp; Stadtmagazin
BEGIN:VEVENT
DTSTART;TZID=Europe/Berlin:20251122T181500
DTEND;TZID=Europe/Berlin:20251122T181500
DTSTAMP:20260420T205847
CREATED:20251022T122307Z
LAST-MODIFIED:20251023T105314Z
UID:156051-1763835300-1763835300@www.herzog-magazin.de
SUMMARY:Karnevalssitzung: Halv un Halv
DESCRIPTION:Lieber Sitzung oder lieber Party? Warum nicht beides? Lieber mit den Jungs oder lieber bei den Mädels? Warum nicht beides? Das neue Format „Halv un Halv Alaaf“ der KG Maiblömche Lich-Steinstraß am Samstag\, 22. November bietet für jeden etwas: Erst die Sitzung mit tollem Programm – getrennt durch die Britz – und dann für alle Party vom Feinsten. Gestartet wird um 18.15 Uhr\, zu Ende ist es mit einer super Aftershow-Party. \nEine Damen- und Herrensitzung unter einem Zeltdach – aber dennoch gemeinsam jeck feiern. Als kölsche Kräfte werden u.a. Domstürmer\, Kempest Feinest\, Räuber\, Willi und Ernst\, StattGarde Colonia Ahoj e.V. und die Showtanzgruppe der KG Maiblömche erwartet. \nEintrittskarten sind über das Vorverkaufsportal der KG Maiblömche (https://vorverkauf.maibloemche.de) erhältlich. \n
URL:https://www.herzog-magazin.de/event/halv-un-halv-die-etwas-andere-karnevalssitzung/
LOCATION:Festzelt Lich-Steinstraß\, Matthiasplatz\, Lich-Steinstraß\, NRW\, Deutschland
CATEGORIES:Brauchtum,Kabarett & Comedy,Musik,Musik & Konzerte
ATTACH;FMTTYPE=image/jpeg:https://www.herzog-magazin.de/wp-content/uploads/2023/02/KG-Maibloemche-Logo.jpg
ORGANIZER;CN="KG%20Maibl%C3%B6mche%20Lich-Steinstra%C3%9F%201935%20e.V.":MAILTO:info@maibloemche.de
END:VEVENT
END:VCALENDAR