    BEGIN:VCALENDAR
VERSION:2.0
PRODID:-//HERZOG Kultur- &amp; Stadtmagazin - ECPv4.9.2//NONSGML v1.0//EN
CALSCALE:GREGORIAN
METHOD:PUBLISH
X-WR-CALNAME:HERZOG Kultur- &amp; Stadtmagazin
X-ORIGINAL-URL:https://www.herzog-magazin.de
X-WR-CALDESC:Veranstaltungen im HERZOG Kultur- &amp; Stadtmagazin
BEGIN:VEVENT
DTSTART;TZID=Europe/Berlin:20180423T160000
DTEND;TZID=Europe/Berlin:20180423T173000
DTSTAMP:20260421T222902
CREATED:20180413T094225Z
LAST-MODIFIED:20180413T171433Z
UID:9986-1524499200-1524504600@www.herzog-magazin.de
SUMMARY:Hausaufgaben: Was können wir als Eltern tun?
DESCRIPTION:Eltern sind neben den Lehrkräften diejenigen\, die ihre Kinder beim Lernen und den Hausaufgaben in erster Linie begleiten\, unterstützen\, fördern und fordern. Hausaufgaben dienen dazu\, das in der Schule Gelernte zu vertiefen und selbstständig anwenden zu lernen. Die Fähigkeiten von Kindern in den Bereichen Selbstständigkeit\, Lernorganisation und Motivation sind im gesamten Schulverlauf sehr unterschiedlich ausgeprägt.  \nDer Schulpsychologische Dienst möchte Eltern Möglichkeiten zur Unterstützung ihrer Kinder in der Hausaufgabensituation vorstellen. Eltern von Grundschulkindern sind daher eingeladen zur  Informationsveranstaltung „Hausaufgaben: Was können wir als Eltern tun?“. \n„Vor allem in der Schuleingangsphase stellen die Hausaufgaben für jedes Kind eine noch unbekannte Situation dar. Demnach ist es sinnvoll\, die Hausaufgaben als ein festes Ritual in den Alltag aufzunehmen. Dieses bietet den Kindern Struktur und Sicherheit“\, so die Schulpsychologin Jasmin Lauterbach. \n„Das primäre Ziel der Veranstaltung besteht darin\, an den bereits vorhandenen Fähigkeiten der Kinder anzusetzen\, um von dort schrittweise vorzugehen und Verbesserungen in den Lerninhalten\, aber auch in der Selbstständigkeit und der Lernorganisation erreichen zu können“ so Anna Kempen vom Schulpsychologischen Dienst. Hierbei soll insbesondere auf typische\, belastende Hausaufgabensituationen eingegangen werden. Beantwortet und besprochen werden typische Fragen wie zum Beispiel: „Wie kann ich mein Kind bei den Hausaufgaben unterstützen?“\, „Wie kann ich die Hausaufgabensituation stressfreier gestalten?“ und „Wie viel Hilfe ist sinnvoll?“. \nDie Veranstaltung findet in der Kreisverwaltung Düren\, Haus C (Zugang Marienstr. 15) statt.  \n
URL:https://www.herzog-magazin.de/event/hausaufgaben-was-koennen-wir-als-eltern-tun/
LOCATION:Kreishaus Düren\, Bismarckstraße\, Düren\, NRW\, Deutschland
GEO:50.8061914;6.487997
X-APPLE-STRUCTURED-LOCATION;VALUE=URI;X-ADDRESS=Kreishaus Düren Bismarckstraße Düren NRW Deutschland;X-APPLE-RADIUS=500;X-TITLE=Bismarckstraße:geo:6.487997,50.8061914
CATEGORIES:Sonstiges,Vortrag
ATTACH;FMTTYPE=image/jpeg:https://www.herzog-magazin.de/wp-content/uploads/2018/04/Hausaufgaben-child-2619902.jpg
ORGANIZER;CN="Kreis%20D%C3%BCren":MAILTO:mail@kreis-dueren.de
END:VEVENT
END:VCALENDAR