    BEGIN:VCALENDAR
VERSION:2.0
PRODID:-//HERZOG Kultur- &amp; Stadtmagazin - ECPv4.9.2//NONSGML v1.0//EN
CALSCALE:GREGORIAN
METHOD:PUBLISH
X-WR-CALNAME:HERZOG Kultur- &amp; Stadtmagazin
X-ORIGINAL-URL:https://www.herzog-magazin.de
X-WR-CALDESC:Veranstaltungen im HERZOG Kultur- &amp; Stadtmagazin
BEGIN:VEVENT
DTSTART;TZID=Europe/Berlin:20211108T200000
DTEND;TZID=Europe/Berlin:20211108T220000
DTSTAMP:20260423T131738
CREATED:20211021T144454Z
LAST-MODIFIED:20211107T135346Z
UID:69018-1636401600-1636408800@www.herzog-magazin.de
SUMMARY:Helden der Wahrscheinlichkeit
DESCRIPTION:Thriller\, Komödie | Dänemark 2020 | FSK: ab 16 | Regie: Anders Thomas Jensen | Darsteller: Mads Mikkelsen\, Nikolaj Lie Kaas\, Andrea Heick Gadeberg \nRegisseur Anders Thomas Jensen („Adams Äpfel“) liefert skandinavisches Erzählkino in seiner klügsten Form. Sein phänomenales Ensemble um Mads Mikkelsen spielt virtuos mit Erwartungen und Wahrscheinlichkeiten auf einem dramaturgischen Höhenflug. „Helden der Wahrscheinlichkeit – Riders of Justice“ schickt seine vier Kausal-Cowboys auf eine Mission wider den Zufall und ins Herz menschlicher Verzweiflung. Subtil humorvoll und dennoch tief berührend. Eine Komödie über die Lust am Sinn und den Schmerz des Zufalls. \n
URL:https://www.herzog-magazin.de/event/helden-der-wahrscheinlichkeit/2021-11-08/
LOCATION:Kulturbahnhof (KuBa) Jülich\, Bahnhofsstraße 13\, Jülich\, NRW\, 52428\, Deutschland
GEO:50.91828;6.36768
X-APPLE-STRUCTURED-LOCATION;VALUE=URI;X-ADDRESS=Kulturbahnhof (KuBa) Jülich Bahnhofsstraße 13 Jülich NRW 52428 Deutschland;X-APPLE-RADIUS=500;X-TITLE=Bahnhofsstraße 13:geo:6.36768,50.91828
CATEGORIES:Kino
ATTACH;FMTTYPE=image/jpeg:https://www.herzog-magazin.de/wp-content/uploads/2021/10/maxresdefault-11.jpg
ORGANIZER;CN="KuBa%20J%C3%BClich":MAILTO:info@kuba-juelich.de
END:VEVENT
END:VCALENDAR