    BEGIN:VCALENDAR
VERSION:2.0
PRODID:-//HERZOG Kultur- &amp; Stadtmagazin - ECPv4.9.2//NONSGML v1.0//EN
CALSCALE:GREGORIAN
METHOD:PUBLISH
X-WR-CALNAME:HERZOG Kultur- &amp; Stadtmagazin
X-ORIGINAL-URL:https://www.herzog-magazin.de
X-WR-CALDESC:Veranstaltungen im HERZOG Kultur- &amp; Stadtmagazin
BEGIN:VEVENT
DTSTART;TZID=Europe/Berlin:20260124T100000
DTEND;TZID=Europe/Berlin:20260124T160000
DTSTAMP:20260424T161053
CREATED:20251008T094630Z
LAST-MODIFIED:20251008T094630Z
UID:155397-1769248800-1769270400@www.herzog-magazin.de
SUMMARY:Hochschulinformationstag der FH Aachen
DESCRIPTION:Am Samstag\, 24. Januar\, wird die FH Aachen Studieninteressierten wieder einen Einblick in das vielseitige und spannende Hochschulleben geben. \nVon 10 bis 16 Uhr gibt es beim Informationstag auf dem FH-Campus Eupener Straße in Aachen ein abwechslungsreiches Programm\, das nicht nur wertvolle Einblicke in das Studienangebot der FH Aachen bietet\, sondern auch aufregende Exponate bereithält! \nUnsere Infostände sind mehr als nur Anlaufstelle: sie bieten die Chance\, direkt mit Studierenden und FH-Angehörigen zu sprechen. Alle Fragen sind willkommen – sei es zu den Studiengängen\, zum Campus-Leben oder wie der Hochschulalltag so aussieht. \nBesonders spannend wird es an den Exponaten\, die darauf warten\, ausprobiert zu werden! Unsere interaktiven Stationen bieten die Möglichkeit\, selbst aktiv zu werden und zu sehen\, wie das Wissen aus den Studiengängen in der Praxis umgesetzt wird. \nAußerdem gibt es kurze Tandemvorträge\, die spannende Einblicke in den Studienalltag geben und zeigen\, welche Jobmöglichkeiten mit einem Abschluss an der FH Aachen warten. \nDie Teilnahme am Informationstag ist frei und ohne Anmeldung möglich. Ein detaillierter Programmablauf zu unserem Hochschulinfotag ist unter www.fh-aachen.de/hit veröffentlicht. \n  \n
URL:https://www.herzog-magazin.de/event/hochschulinformationstag-der-fh-aachen/
LOCATION:FH Aachen Campus Eupener Straße\, Eupener Straße\, Aachen\, NRW\, 52066\, Deutschland
CATEGORIES:Ausbildung / Beruflicher Einstieg / Lehre,Beruf,Informationsveranstaltung
ATTACH;FMTTYPE=image/jpeg:https://www.herzog-magazin.de/wp-content/uploads/2025/10/Flyer-HIT-Werbung.jpg
END:VEVENT
END:VCALENDAR