    BEGIN:VCALENDAR
VERSION:2.0
PRODID:-//HERZOG Kultur- &amp; Stadtmagazin - ECPv4.9.2//NONSGML v1.0//EN
CALSCALE:GREGORIAN
METHOD:PUBLISH
X-WR-CALNAME:HERZOG Kultur- &amp; Stadtmagazin
X-ORIGINAL-URL:https://www.herzog-magazin.de
X-WR-CALDESC:Veranstaltungen im HERZOG Kultur- &amp; Stadtmagazin
BEGIN:VEVENT
DTSTART;TZID=Europe/Berlin:20221212T170000
DTEND;TZID=Europe/Berlin:20221212T180000
DTSTAMP:20260424T065420
CREATED:20221117T091634Z
LAST-MODIFIED:20221117T091914Z
UID:93772-1670864400-1670868000@www.herzog-magazin.de
SUMMARY:Hui Buh und das Hexenschloss
DESCRIPTION:Fantasy\, Komödie | Deutschland 2022 | FSK: ab 6 | 88 Min. | 17:00 Uhr | 4.00 Euro | Regie: Michael Bully Herbig | Darsteller: Michael Bully Herbig\, Mina Tander\, Christoph Maria Herbst \n14 Jahre sind vergangen\, seit König Julius zu Hui Buh ins Schloss Burgeck eingezogen ist. Während Hui Buh noch immer sehr darunter leidet\, als Gespenst eine Lachnummer zu sein und damit Julius mächtig auf die Nerven geht\, macht dieser eine harte Zeit durch\, seit Konstanzia ihn verlassen hat. Auch die gähnende Leere der Schatzkammer des Schlosses wird langsam\, aber sicher unübersehbar und trägt zum ewigen Streit der beiden bei. \nDa steht plötzlich die kleine Hexe Ophelia vor der Tür und bittet ihren Onkel Hui Buh um Hilfe. Sie erzählt Julius und Hui Buh von ihrer Flucht vor der bösen Hexe Erla\, die ihre Mutter Maria entführt hat\, auf der Suche nach dem Necronomicon\, dem mächtigsten Zauberbuch der Welt. Nun ist sie hinter Ophelia her. Hui Buh erkennt eine einzigartige Gelegenheit\, endlich gruselig zu werden! Die sagenumwobenen Zaubersprüche des Buchs könnten seinen Traum\, ein gefürchtetes Gespenst zu sein\, wahr machen. \n\n
URL:https://www.herzog-magazin.de/event/hui-buh-und-das-hexenschloss/
LOCATION:Kulturbahnhof (KuBa) Jülich\, Bahnhofsstraße 13\, Jülich\, NRW\, 52428\, Deutschland
GEO:50.91828;6.36768
X-APPLE-STRUCTURED-LOCATION;VALUE=URI;X-ADDRESS=Kulturbahnhof (KuBa) Jülich Bahnhofsstraße 13 Jülich NRW 52428 Deutschland;X-APPLE-RADIUS=500;X-TITLE=Bahnhofsstraße 13:geo:6.36768,50.91828
CATEGORIES:für Kinder
ATTACH;FMTTYPE=image/jpeg:https://www.herzog-magazin.de/wp-content/uploads/2022/11/maxresdefault-6.jpg
ORGANIZER;CN="KuBa%20J%C3%BClich":MAILTO:info@kuba-juelich.de
END:VEVENT
END:VCALENDAR