    BEGIN:VCALENDAR
VERSION:2.0
PRODID:-//HERZOG Kultur- &amp; Stadtmagazin - ECPv4.9.2//NONSGML v1.0//EN
CALSCALE:GREGORIAN
METHOD:PUBLISH
X-WR-CALNAME:HERZOG Kultur- &amp; Stadtmagazin
X-ORIGINAL-URL:https://www.herzog-magazin.de
X-WR-CALDESC:Veranstaltungen im HERZOG Kultur- &amp; Stadtmagazin
BEGIN:VEVENT
DTSTART;TZID=Europe/Berlin:20191202T200000
DTEND;TZID=Europe/Berlin:20191202T220000
DTSTAMP:20260420T002935
CREATED:20191120T121950Z
LAST-MODIFIED:20191120T122119Z
UID:31353-1575316800-1575324000@www.herzog-magazin.de
SUMMARY:ICH WAR NOCH NIEMALS IN NEW YORK
DESCRIPTION:Komödie | Deutschland 2019 | FSK: ab 0 | Regie: Philipp Stölzl | Darsteller: Heike Makatsch\, Uwe Ochsenknecht\, Moritz Bleibtreu\, Katharina Thalbach\, Michael Ostrowski \nFür Lisa Wartberg\, erfolgsverwöhnte Fernsehmoderatorin und Single\, steht ihre Show an erster Stelle. Doch dann verliert ihre Mutter Maria nach einem Unfall ihr Gedächtnis\, kommt ins Krankenhaus und kann sich nur noch an eines erinnern: Sie war noch niemals in New York! Kurzentschlossen flieht Maria und schmuggelt sich als blinder Passagier an Bord eines luxuriösen Kreuzfahrtschiffes. \nGemeinsam mit ihrem Maskenbildner Fred macht sich Lisa auf die Suche nach ihrer Mutter und spürt sie tatsächlich auf der „MS Maximiliane“ auf. Doch bevor die beiden Maria wieder von Bord bringen können\, legt der Ozeandampfer auch schon ab und die drei finden sich auf einer unfreiwilligen Reise über den Atlantik wieder. \nLisa lernt an Bord Axel Staudach und dessen Sohn Florian kennen. Axel ist so gar nicht Lisas Typ\, doch durch eine Reihe unglücklicher Missgeschicke kommen sich die beiden schließlich näher… Mutter Maria trifft auf Eintänzer Otto der behauptet\, eine gemeinsame Vergangenheit mit ihr zu haben – was Maria mangels Gedächtnis natürlich nicht überprüfen kann. Und Fred verliebt sich Hals über Kopf in den griechischen Bordzauberer Costa. \nSo verläuft die turbulente Schiffsreise – mit mehrmaligem Finden und Verlieren der Liebe und jeder Menge Überraschungen – nach New York. \n
URL:https://www.herzog-magazin.de/event/ich-war-noch-niemals-in-new-york/2019-12-02/
LOCATION:Kulturbahnhof (KuBa) Jülich\, Bahnhofsstraße 13\, Jülich\, NRW\, 52428\, Deutschland
GEO:50.91828;6.36768
X-APPLE-STRUCTURED-LOCATION;VALUE=URI;X-ADDRESS=Kulturbahnhof (KuBa) Jülich Bahnhofsstraße 13 Jülich NRW 52428 Deutschland;X-APPLE-RADIUS=500;X-TITLE=Bahnhofsstraße 13:geo:6.36768,50.91828
CATEGORIES:Kino
ATTACH;FMTTYPE=image/jpeg:https://www.herzog-magazin.de/wp-content/uploads/2019/11/maxresdefault-9.jpg
ORGANIZER;CN="KuBa%20J%C3%BClich":MAILTO:info@kuba-juelich.de
END:VEVENT
END:VCALENDAR