    BEGIN:VCALENDAR
VERSION:2.0
PRODID:-//HERZOG Kultur- &amp; Stadtmagazin - ECPv4.9.2//NONSGML v1.0//EN
CALSCALE:GREGORIAN
METHOD:PUBLISH
X-WR-CALNAME:HERZOG Kultur- &amp; Stadtmagazin
X-ORIGINAL-URL:https://www.herzog-magazin.de
X-WR-CALDESC:Veranstaltungen im HERZOG Kultur- &amp; Stadtmagazin
BEGIN:VEVENT
DTSTART;TZID=Europe/Berlin:20230918T200000
DTEND;TZID=Europe/Berlin:20230918T220000
DTSTAMP:20260422T170431
CREATED:20230818T101542Z
LAST-MODIFIED:20230818T102045Z
UID:112659-1695067200-1695074400@www.herzog-magazin.de
SUMMARY:Im Herzen jung
DESCRIPTION:Komödie\, Drama\, Liebesfilm | Frankreich\, Belgien 2021 | FSK: ab 12 | 112 Min. | 6.50 Euro / 6.00 Euro erm. | Regie: Carine Tardieu | Darsteller: Fanny Ardant\, Melvil Poupaud\, Cécile de France \n15 Jahre sind vergangen\, seit sich Shauna und Pierre einmal kurz getroffen haben\, in dem Krankenhaus\, in dem er als Arzt arbeitet. Schon damals fühlten sie sich zueinander hingezogen. Als sie sich jetzt wiedersehen\, ist es um sie geschehen\, auch wenn die Umstände nicht unbedingt dafürsprechen: Shauna hat eigentlich mit der Romantik abgeschlossen\, Pierre führt ein glückliches Familienleben und schätzt seine Frau sehr. Shauna zögert\, denn sie ist erheblich älter als Pierre\, doch das Begehren und die Gefühle füreinander sind so stark\, dass Widerstand zwecklos ist. Die Liebe kommt über das ungleiche Paar wie ein Blitz. \nEine außergewöhnliche\, sensible Liebesgeschichte erzählt Carine Tardieu in ihrem neuesten Film. Zwischen einer älteren Frau und einem jüngeren Mann. Allen Hindernissen zum Trotz ringen sie um eine gemeinsame Zukunft. \nEmotionales Kino\, wie es nur aus Frankreich kommen kann. \n
URL:https://www.herzog-magazin.de/event/im-herzen-jung/2023-09-18/
LOCATION:Kulturbahnhof (KuBa) Jülich\, Bahnhofsstraße 13\, Jülich\, NRW\, 52428\, Deutschland
GEO:50.91828;6.36768
X-APPLE-STRUCTURED-LOCATION;VALUE=URI;X-ADDRESS=Kulturbahnhof (KuBa) Jülich Bahnhofsstraße 13 Jülich NRW 52428 Deutschland;X-APPLE-RADIUS=500;X-TITLE=Bahnhofsstraße 13:geo:6.36768,50.91828
CATEGORIES:Kino
ATTACH;FMTTYPE=image/jpeg:https://www.herzog-magazin.de/wp-content/uploads/2023/08/maxresdefault-7.jpg
ORGANIZER;CN="KuBa%20J%C3%BClich":MAILTO:info@kuba-juelich.de
END:VEVENT
END:VCALENDAR