    BEGIN:VCALENDAR
VERSION:2.0
PRODID:-//HERZOG Kultur- &amp; Stadtmagazin - ECPv4.9.2//NONSGML v1.0//EN
CALSCALE:GREGORIAN
METHOD:PUBLISH
X-WR-CALNAME:HERZOG Kultur- &amp; Stadtmagazin
X-ORIGINAL-URL:https://www.herzog-magazin.de
X-WR-CALDESC:Veranstaltungen im HERZOG Kultur- &amp; Stadtmagazin
BEGIN:VEVENT
DTSTART;TZID=Europe/Berlin:20241126T200000
DTEND;TZID=Europe/Berlin:20241126T220000
DTSTAMP:20260422T223842
CREATED:20241022T092547Z
LAST-MODIFIED:20241022T185157Z
UID:134461-1732651200-1732658400@www.herzog-magazin.de
SUMMARY:In Liebe\, Eure Hilde
DESCRIPTION:Drama | Deutschland 2024 | FSK: ab 12 | 125 Min. | 6.50 Euro / 6.00 Euro erm. | Regie: Andreas Dresen | Darsteller: Liv Lisa Fries\, Johannes Hegemann\, Lisa Wagner \nBerlin 1942. Hilde ist verliebt. In Hans. In ihrer Leidenschaft vergessen die beiden oft Krieg und Gefahr. Dann sind sie nur zwei junge Menschen am Beginn ihres Lebens. Hilde bewundert den Mut ihres Liebsten. Er bewegt sich in Widerstandskreisen. Sie selbst ist eher ängstlich\, beteiligt sich aber immer beherzter an den Aktionen einer Gruppe\, die man später die „Rote Kapelle“ nennen wird. Es ist der schönste Sommer ihres Lebens. Als er sich neigt\, werden alle verhaftet. Und Hilde ist im achten Monat schwanger. Im Gefängnis bringt sie ihren Sohn zur Welt und entwickelt eine Kraft\, die ihr niemand zugetraut hätte. \nIN LIEBE\, EURE HILDE ist die achte gemeinsame Arbeit von Regisseur Andreas Dresen und Drehbuchautorin Laila Stieler. IN LIEBE\, EURE HILDE basiert auf der wahren Geschichte von Hilde und Hans Coppi\, die in Berlin-Plötzensee hingerichtet wurden. Insgesamt wurden zwischen 1942 und 1943 mehr als 50 Mitglieder der „Roten Kapelle“ ermordet. Der Film erzählt eine nahezu zeitlose\, wuchtige Liebesgeschichte über Anstand und Widerstand\, Intuition und zivile Courage\, Würde und Angst. \nDas Drama berührt durch die kompromisslose Nähe zu seiner weiblichen Hauptfigur – radikal und ohne Pathos spielt Liv Lisa Fries (BABYLON BERLIN) Hilde Coppi als starke\, stille Heldin. An ihrer Seite ist Johannes Hegemann (Thalia Theater Hamburg) in seinem Leinwanddebüt als Hans Coppi zu sehen. Dem weiteren Ensemble gehören unter anderen Alexander Scheer (GUNDERMANN)\, Lisa Wagner\, Florian Lukas\, Fritzi Haberlandt\, Emma Bading\, Sina Martens und Lena Urzendowsky an. \n« Dresens Film ist berührend. Eindringlich. Wichtig. Und Liv Lisa Fries großartig. » ZDF heute \n« Dieser Film schickt seine Zuschauer nicht ins Museum. Er erzählt\, wie aus Naivität Mut wird\, aus Anstand Widerstand.  » ARD Titel Thesen Temperament \n
URL:https://www.herzog-magazin.de/event/in-liebe-eure-hilde/2024-11-26/
LOCATION:Kulturbahnhof (KuBa) Jülich\, Bahnhofsstraße 13\, Jülich\, NRW\, 52428\, Deutschland
GEO:50.91828;6.36768
X-APPLE-STRUCTURED-LOCATION;VALUE=URI;X-ADDRESS=Kulturbahnhof (KuBa) Jülich Bahnhofsstraße 13 Jülich NRW 52428 Deutschland;X-APPLE-RADIUS=500;X-TITLE=Bahnhofsstraße 13:geo:6.36768,50.91828
CATEGORIES:Kino
ATTACH;FMTTYPE=image/jpeg:https://www.herzog-magazin.de/wp-content/uploads/2024/10/in-liebe-eure-hilde_stills_01-scaled.jpg
ORGANIZER;CN="KuBa%20J%C3%BClich":MAILTO:info@kuba-juelich.de
END:VEVENT
END:VCALENDAR