    BEGIN:VCALENDAR
VERSION:2.0
PRODID:-//HERZOG Kultur- &amp; Stadtmagazin - ECPv4.9.2//NONSGML v1.0//EN
CALSCALE:GREGORIAN
METHOD:PUBLISH
X-WR-CALNAME:HERZOG Kultur- &amp; Stadtmagazin
X-ORIGINAL-URL:https://www.herzog-magazin.de
X-WR-CALDESC:Veranstaltungen im HERZOG Kultur- &amp; Stadtmagazin
BEGIN:VEVENT
DTSTART;TZID=Europe/Berlin:20220415T110000
DTEND;TZID=Europe/Berlin:20220415T133000
DTSTAMP:20260421T040711
CREATED:20220407T144342Z
LAST-MODIFIED:20220407T144342Z
UID:77494-1650020400-1650029400@www.herzog-magazin.de
SUMMARY:indeland: Wildkräuterwanderung in Linnich
DESCRIPTION:Wildkräutern auf der Spur: Spitzwegerich\, Löwenzahn\, Goldnessel und Wiesenschaumkraut – diese Wildkräuter wachsen nicht nur an vielen Stellen im indeland\, sondern sie lassen sich auch abwechslungsreich nutzen. Woran die Pflanzen zu erkennen sind und welche Anwendungsmöglichkeiten sie bieten\, lässt sich am Freitag\, 15. April\, bei einer indeland-Erlebnisführung mit Kräuterhexe Ulrike Walgenbach in Linnich herausfinden. \nZu der Führung erhalten alle Teilnehmerinnen und Teilnehmer ein Merkblatt mit Informationen und Rezeptideen zu den gesammelten Kräutern. Startpunkt zu der etwa zweieinhalb Stunden dauernden Tour ist um 11 Uhr am Sportplatz in Floßdorf. Die Teilnahme kostet 10 Euro für Erwachsene und 5 Euro für Kinder ab sechs Jahren.  \nEine Anmeldung beim indeland Tourismus e. V.\, Tel. 02421 / 22-1084126\, E-Mail info@indeland-erleben.de) ist erforderlich. \nWeitere Informationen unter www.indeland-erleben.de/angebote im Internet. \n
URL:https://www.herzog-magazin.de/event/indeland-wildkraeuterwanderung-in-linnich/
LOCATION:NRW\, Deutschland
CATEGORIES:Exkursion,Natur / Umwelt
ATTACH;FMTTYPE=image/jpeg:https://www.herzog-magazin.de/wp-content/uploads/2022/04/indeland-1.jpg
END:VEVENT
END:VCALENDAR