    BEGIN:VCALENDAR
VERSION:2.0
PRODID:-//HERZOG Kultur- &amp; Stadtmagazin - ECPv4.9.2//NONSGML v1.0//EN
CALSCALE:GREGORIAN
METHOD:PUBLISH
X-WR-CALNAME:HERZOG Kultur- &amp; Stadtmagazin
X-ORIGINAL-URL:https://www.herzog-magazin.de
X-WR-CALDESC:Veranstaltungen im HERZOG Kultur- &amp; Stadtmagazin
BEGIN:VEVENT
DTSTART;TZID=Europe/Berlin:20231118T093000
DTEND;TZID=Europe/Berlin:20231118T130000
DTSTAMP:20260419T231733
CREATED:20231021T114349Z
LAST-MODIFIED:20231021T114349Z
UID:116687-1700299800-1700312400@www.herzog-magazin.de
SUMMARY:Infotag am Mädchengymnasium Jülich
DESCRIPTION:Für die Schülerinnen der vierten Klassen und deren Familien öffnet das Mädchengymnasium Jülich\, Dr. Weyer-Straße 5 / Ecke Römerstraße\, am Samstag\, 18. November\, von 9.30 bis 13 Uhr wieder seine Türen. Dann bietet die Europaschule ab 9.45 Uhr parallele Angebote in Kleingruppen für Viertklässlerinnen und ihre Eltern an\, etwa Workshops und Mitmachaktionen in unterschiedlichen Schulfächern und Erkundungsführungen durch das Schulgebäude.  \nAn Infotischen im Foyer sind Beratungsgespräche mit Lehrerinnen und Lehrern sowie Vertreterinnen des Schulträgers möglich. Außerdem freuen sich engagierte Oberstufenschülerinnen und MGJ-Eltern auf den Austausch mit den interessierten Familien. \nUm 10.15 Uhr informieren die Schulleiterin Christiane Clemens und die Erprobungsstufenkoordinatorin Olivia Baetz im PZ zum Schul- und Bildungsprofil des Mädchengymnasiums. Es wird hier ausführlich über die Schule informiert\, zum Beispiel über die Vorteile eines Gymnasiums nur für Mädchen und auch über den seit Jahren etablierten bilingualen Bildungsgang der Europaschule. Auch im Anschluss besteht die Möglichkeit mit Eltern\, Schulleitung und Kollegium ins Gespräch zu kommen\, sich an Stellwänden weiter zu informieren oder an einer Schulführung teilzunehmen.  \nFür jüngere Geschwisterkinder wird eine Betreuung angeboten\, damit die Viertklässlerinnen und ihre Eltern sich ganz auf das Kennenlernen der Schule konzentrieren können. Schülerinnen der Jahrgangsstufen 10 sind ebenfalls herzlich Willkommen und werden über die Möglichkeit zum Wechsel an das MGJ nach dem mittleren Schulabschluss informiert. \nWeitere Informationen sind über die Schulhomepage www.mgj-online.de zu erfahren. \n
URL:https://www.herzog-magazin.de/event/infotag-am-maedchengymnasium-juelich-3/
LOCATION:Mädchengymnasium Jülich MGJ\, Dr. Weyer Straße\, Jülich\, NRW\, 52428\, Deutschland
CATEGORIES:Informationsveranstaltung,Schule
ATTACH;FMTTYPE=image/jpeg:https://www.herzog-magazin.de/wp-content/uploads/2023/10/MGJ-Infotag2023.jpg
ORGANIZER;CN="M%C3%A4dchengymnasium%20J%C3%BClich":MAILTO:sekretariat@mgj-online.de
END:VEVENT
END:VCALENDAR