    BEGIN:VCALENDAR
VERSION:2.0
PRODID:-//HERZOG Kultur- &amp; Stadtmagazin - ECPv4.9.2//NONSGML v1.0//EN
CALSCALE:GREGORIAN
METHOD:PUBLISH
X-WR-CALNAME:HERZOG Kultur- &amp; Stadtmagazin
X-ORIGINAL-URL:https://www.herzog-magazin.de
X-WR-CALDESC:Veranstaltungen im HERZOG Kultur- &amp; Stadtmagazin
BEGIN:VEVENT
DTSTART;TZID=Europe/Berlin:20230918T173000
DTEND;TZID=Europe/Berlin:20230918T173000
DTSTAMP:20260422T170420
CREATED:20230904T110253Z
LAST-MODIFIED:20230904T110253Z
UID:113551-1695058200-1695058200@www.herzog-magazin.de
SUMMARY:Infoveranstaltung Vorsorgemaßnahmen
DESCRIPTION:Alles geregelt? Vorsorge treffen! Die Vorstellung\, plötzlich durch beispielsweise einen Unfall oder Krankheit handlungsunfähig zu werden\, löst bei den meisten Menschen Unbehagen aus. Sich rechtzeitig über Vorsorgemaßnahmen wie Vollmacht und Patientenverfügung Gedanken zu machen\, entlastet nicht nur sie\, sondern auch ihre Bevollmächtigten. \nBernd Kornblum-Becker von der Betreuungsbehörde des Kreises Düren informiert im Rahmen einer Informationsveranstaltung am Montag\, 18. September\, um 17.30 Uhr\, in der Tagespflege St. Hildegard in Jülich\, Merkatorstraße 31. Die Teilnahme ist kostenlos. Anmeldungen und weitere Informationen erhalten Interessierte bei der Caritas-Fachstelle Demenz\, Telefonnummer 02421 / 967614 oder E-Mail demenzberatung@caritas-dn.de.  \n
URL:https://www.herzog-magazin.de/event/infoveranstaltung-vorsorgemassnahmen/
LOCATION:Caritas-Tagepflege St. Hildegard\, Merkatorstraße 31\, Jülich\, NRW\, 52428\, Deutschland
CATEGORIES:Gesundheit,Informationsveranstaltung,Rat & Hilfe,Recht
ATTACH;FMTTYPE=image/jpeg:https://www.herzog-magazin.de/wp-content/uploads/2023/01/Caritas_HZG.jpg
ORGANIZER;CN="Caritasverband%20f%C3%BCr%20die%20Region%20D%C3%BCren-J%C3%BClich%20e.V.":MAILTO:info@cv-dueren.de
END:VEVENT
END:VCALENDAR