    BEGIN:VCALENDAR
VERSION:2.0
PRODID:-//HERZOG Kultur- &amp; Stadtmagazin - ECPv4.9.2//NONSGML v1.0//EN
CALSCALE:GREGORIAN
METHOD:PUBLISH
X-WR-CALNAME:HERZOG Kultur- &amp; Stadtmagazin
X-ORIGINAL-URL:https://www.herzog-magazin.de
X-WR-CALDESC:Veranstaltungen im HERZOG Kultur- &amp; Stadtmagazin
BEGIN:VEVENT
DTSTART;TZID=Europe/Berlin:20230911T180000
DTEND;TZID=Europe/Berlin:20230911T180000
DTSTAMP:20260421T182202
CREATED:20230911T101441Z
LAST-MODIFIED:20230911T101441Z
UID:114015-1694455200-1694455200@www.herzog-magazin.de
SUMMARY:Infoveranstaltungen zu Leader-Projekten
DESCRIPTION:Die nächsten Infoveranstaltungen zu Leader-Projekten und dem Regionalbudget finden in den kommenden Wochen statt. Die nächste Einreichungsfrist für Leader-Projektskizzen ist am 16. Oktober. \nWas können Interessierte tun\, um einen erfolgreichen Förderantrag im EU-Förderprogramm Leader zu stellen? Welche Themen sollen gefördert werden? Wer kann Anträge stellen? Leader will mit einer 70-prozentigen Förderung die Entwicklung des ländlichen Raumes stärken. Die Experten sind die Bürgerinnen und Bürger vor Ort.  \nDas Buttom-Up-Prinzip ist ein wesentliches Charakteristikum des Programms. Vereine\, Initiativen\, Privatpersonen\, Institutionen oder Kommunen können ihre Ideen einreichen\, und wenn sie vom Vorstand der LAG Rheinisches Revier an Inde und Rur e.V. gut bewertet werden\, auch gefördert werden.  \nDas Regionalmanagement begleitet durch den ganzen Prozess. Beratungen sind unter der E-Mail-Adresse leader@inde-rur.de möglich. Ein weiteres Förderprogramm ist das Regionalbudget\, das ebenfalls besondere Möglichkeiten bietet. \nZur Information\, was alles mit Leader und dem Regionalbudget möglich ist\, werden verschiedene Infoveranstaltungen angeboten. Beginn ist jeweils um 18 Uhr. \nMontag\, 11. September\, in Erkelenz\, Altes Rathaus\nMittwoch\, 13. September\, Jülich\, Rathaus\, Kleiner Sitzungssaal\nDienstag\, 19. September\, Stand auf dem Korneliusmarkt Rödingen\nDonnerstag\, 21. September\, online über www.inde-rur.de  \n
URL:https://www.herzog-magazin.de/event/infoveranstaltungen-zu-leader-projekten/2023-09-11/
LOCATION:Allgemeiner Ort\, NRW\, Deutschland
CATEGORIES:Informationsveranstaltung,Sonstiges
ATTACH;FMTTYPE=image/jpeg:https://www.herzog-magazin.de/wp-content/uploads/2023/02/Rheinisches-Revier-an-Inde-und-Rur-logo-Netz.jpg
ORGANIZER;CN="Leader-Region%20Rheinisches%20Revier%20an%20Inde%20und%20Rur":MAILTO:leader@inde-rur.de
END:VEVENT
END:VCALENDAR