    BEGIN:VCALENDAR
VERSION:2.0
PRODID:-//HERZOG Kultur- &amp; Stadtmagazin - ECPv4.9.2//NONSGML v1.0//EN
CALSCALE:GREGORIAN
METHOD:PUBLISH
X-WR-CALNAME:HERZOG Kultur- &amp; Stadtmagazin
X-ORIGINAL-URL:https://www.herzog-magazin.de
X-WR-CALDESC:Veranstaltungen im HERZOG Kultur- &amp; Stadtmagazin
BEGIN:VEVENT
DTSTART;TZID=Europe/Berlin:20250705T100000
DTEND;TZID=Europe/Berlin:20250705T120000
DTSTAMP:20260422T004851
CREATED:20250617T183321Z
LAST-MODIFIED:20250617T183458Z
UID:148939-1751709600-1751716800@www.herzog-magazin.de
SUMMARY:Internationales Frauenfrühstück in Jülich
DESCRIPTION:Am Samstag\, den 5. Juli\, lädt die Gleichstellungsstelle der Stadt Jülich in Kooperation mit der AWO Jülich alle Frauen herzlich zum 5. Internationalen Frauenfrühstück ein. Die Veranstaltung findet von 10 bis 12 Uhr im AWO Zentrum Jülich statt. \nUnter dem Motto „Gemeinsam genießen\, Kontakte knüpfen und sich austauschen“ bietet die Veranstaltung die perfekte Gelegenheit\, neue Menschen kennenzulernen und sich in entspannter Atmosphäre auszutauschen. Eingeladen sind Frauen aller Kulturen und Altersgruppen\, die Freude daran haben\, ein leckeres Frühstücksbuffet zu genießen und spannende Gespräche zu führen. \nDas Frauenfrühstück steht für Vielfalt und ein starkes Gefühl der Gemeinschaft. Es ist eine wunderbare Möglichkeit\, sich über die eigenen Erfahrungen auszutauschen und neue Freundschaften zu schließen. Gerne können auch Freundinnen mitgebracht werden – wir freuen uns auf viele bekannte und neue Gesichter. \nDie Teilnehmenden werden gebeten\, sich mit Leckereien von Nah und Fern am Buffet zu beteiligen. Brötchen und Getränke werden gestellt. \nDie Teilnahme ist kostenlos. Eine Anmeldung ist erwünscht aber nicht zwingend erforderlich und kann unter der E-Mail-Adresse jfischer@juelich.de erfolgen. \n
URL:https://www.herzog-magazin.de/event/internationales-frauenfru%cc%88hstu%cc%88ck-in-ju%cc%88lich/
LOCATION:AWO Begegnungszentrum Jülich\, Marie-Juchacz Weg 2\, Jülich\, NRW\, 52428\, Deutschland
CATEGORIES:Essen & Trinken,für Frauen,Inklusion,Präsenz-Veranstaltung
ATTACH;FMTTYPE=image/jpeg:https://www.herzog-magazin.de/wp-content/uploads/2025/01/Internationales-Frauenfrühstück_web.jpg
END:VEVENT
END:VCALENDAR