    BEGIN:VCALENDAR
VERSION:2.0
PRODID:-//HERZOG Kultur- &amp; Stadtmagazin - ECPv4.9.2//NONSGML v1.0//EN
CALSCALE:GREGORIAN
METHOD:PUBLISH
X-WR-CALNAME:HERZOG Kultur- &amp; Stadtmagazin
X-ORIGINAL-URL:https://www.herzog-magazin.de
X-WR-CALDESC:Veranstaltungen im HERZOG Kultur- &amp; Stadtmagazin
BEGIN:VEVENT
DTSTART;TZID=Europe/Berlin:20230127T193000
DTEND;TZID=Europe/Berlin:20230127T193000
DTSTAMP:20260425T114651
CREATED:20230113T122528Z
LAST-MODIFIED:20230113T122628Z
UID:96455-1674847800-1674847800@www.herzog-magazin.de
SUMMARY:SV Viktoria Koslar: Jahreshauptversammlung
DESCRIPTION:Die Jahreshauptversammlung des S.V. Viktoria 1908 Koslar e.V. findet am Freitag\, 27. Januar\, im Vereinsheim am Sportplatz statt. Auf der Tagesordnung stehen Neuwahlen des Vorstandes. \nDie Versammlung beginnt um 19.30 Uhr. Alle Mitglieder sind herzlich eingeladen. \n
URL:https://www.herzog-magazin.de/event/jahreshauptversammlung-des-sv-viktoria-koslar/
LOCATION:Koslar
CATEGORIES:Sport,Versammlungen
ATTACH;FMTTYPE=image/jpeg:https://www.herzog-magazin.de/wp-content/uploads/2023/01/SV-Viktoria-1908-Koslar-Logo.jpg
ORGANIZER;CN="SV%20Viktoria%201908%20Koslar%20e.V.":MAILTO:info@viktoria-koslar.de
END:VEVENT
END:VCALENDAR