    BEGIN:VCALENDAR
VERSION:2.0
PRODID:-//HERZOG Kultur- &amp; Stadtmagazin - ECPv4.9.2//NONSGML v1.0//EN
CALSCALE:GREGORIAN
METHOD:PUBLISH
X-WR-CALNAME:HERZOG Kultur- &amp; Stadtmagazin
X-ORIGINAL-URL:https://www.herzog-magazin.de
X-WR-CALDESC:Veranstaltungen im HERZOG Kultur- &amp; Stadtmagazin
BEGIN:VEVENT
DTSTART;TZID=Europe/Berlin:20190627T190000
DTEND;TZID=Europe/Berlin:20190627T000000
DTSTAMP:20260424T134610
CREATED:20190611T144349Z
LAST-MODIFIED:20190611T144349Z
UID:25784-1561662000-1561593600@www.herzog-magazin.de
SUMMARY:Jahreshauptversammlung und Vortrag
DESCRIPTION:Der Förderverein Festung Zitadelle Jülich trifft sich zu routinemäßigen Jahreshauptversammlung\, Vortrag der Jahresberichte und Austausch über geplante Vorhaben um 19 Uhr im Hotel Kaiserhof.  \nDie Vortragveranstaltung im Anschluss steht allen Interessierten offen.  \nProf. Christian Raabe wird über das Thema „Goethe in Jülich – eine kurze Geschichte der Denkmalwerte“ sprechen. Er wird laut Einladung in seinem Vortrag die Geschichte der Denkmalpflege verkürzt darstellen\, dabei die historische Entwicklung der Denkmalwerte erläutern und dabei auch die Relevanz von Nachkriegsbauten und der entsprechenden Stadtplanung thematisieren.  \n
URL:https://www.herzog-magazin.de/event/jahreshauptversammlung-und-vortrag/
LOCATION:Hotel Kaiserhof\, Bahnhofstraße\, Jülich\, NRW\, 52428\, Deutschland
GEO:50.9175329;6.3676318
X-APPLE-STRUCTURED-LOCATION;VALUE=URI;X-ADDRESS=Hotel Kaiserhof Bahnhofstraße Jülich NRW 52428 Deutschland;X-APPLE-RADIUS=500;X-TITLE=Bahnhofstraße:geo:6.3676318,50.9175329
CATEGORIES:Geschichte,Versammlungen,Vortrag
ATTACH;FMTTYPE=image/jpeg:https://www.herzog-magazin.de/wp-content/uploads/2019/06/denkmal-IMG_9404.jpg
END:VEVENT
END:VCALENDAR