    BEGIN:VCALENDAR
VERSION:2.0
PRODID:-//HERZOG Kultur- &amp; Stadtmagazin - ECPv4.9.2//NONSGML v1.0//EN
CALSCALE:GREGORIAN
METHOD:PUBLISH
X-WR-CALNAME:HERZOG Kultur- &amp; Stadtmagazin
X-ORIGINAL-URL:https://www.herzog-magazin.de
X-WR-CALDESC:Veranstaltungen im HERZOG Kultur- &amp; Stadtmagazin
BEGIN:VEVENT
DTSTART;TZID=Europe/Berlin:20220408T200000
DTEND;TZID=Europe/Berlin:20220408T200000
DTSTAMP:20260423T104321
CREATED:20220316T103902Z
LAST-MODIFIED:20220316T103902Z
UID:76120-1649448000-1649448000@www.herzog-magazin.de
SUMMARY:Jazzclub: Satchmos Geist im KuBa
DESCRIPTION:Die South West Old Time All Stars sind am Freitag\, 8. April\, zu Gast beim Jazzclub Jülich im Jülicher Kulturbahnhof. Los geht es um 20 Uhr\, Einlass wird ab 19 Uhr gewährt. Der Eintritt kostet regulär 12 Euro (9 Euro für Mitglieder des Jazzclub Jülich e.V.). \nSouth West Oldtime All Stars (SWOTA) featuring Trevor Richards – The Original Louis Armstrong Hot Five / Hot Seven Classics: Die Hot Five und Hot Seven Aufnahmen von Louis Armstrong wurden in verschiedenen Besetzungen zwischen 1925 und 1928 aufgenommen und waren reine Studioproduktionen\, Satchmo ging nie mit dieser Formation auf Tour. \nSWOTA haben sich diesen Klassikern (West End Blues\, King of the Zulus\, Cornet Chop Suey\, Struttin‘ with some barbecue\, Mahagony Hall Stomp u.v.m.) angenommen und hauchen ihnen neues Leben ein\, musikalisch auf allerhöchstem Niveau und nicht nur für Freunde des New Orleans Jazz ein echter Ohrenschmaus. Armstrong machte mit den Hot 5 / Hot 7 zum ersten Mal Jazzaufnahmen\, bei denen den Solisten mehr Raum zur Improvisation gegeben wurde\, und ebnete den späteren Jazzstilen künstlerisch den Weg.  \nDiese Aufnahmen sind einige der Grundlagen des Jazz überhaupt: Das in ihnen wahrnehmbare künstlerische Potenzial konnte dem Jazz zum Ansehen einer ernstzunehmenden Musik verhelfen. Nach Ansicht des Kritikers Gary Giddins handelt sich um „das einflussreichste Aufnahme-Projekt des Jazz\, vielleicht der ganzen amerikanischen Musik“.  \nDrummer Trevor Richards (New Orleans)\, Meisterschüler des Schlagzeugers Zutty Singleton (Mitglied der Originalbesetzung von Louis Armstrongs Hot Seven\, der ihm sogar sein Drumkit vererbte)\, sorgt durch sein unverwechselbares authentisches Spiel für den wunderbaren Bandsound. Er ist seit über 20 Jahren Träger der höchsten Auszeichnung des amerikanischen National Endowment of the Arts\, war Schlagzeuger des Jahres der europäischen Fachmedienpresse und erhielt in Frankreich des Grand Prix du Jazz des Hot Club de France für seine\n Trio-CD mit dem Klarinettisten Evan Christopher.  \nThomas Stabenow ist Professor an der Musikhochschule Mannheim für Jazz Kontrabass. Er ist eine lebende Legende der deutschen Jazzszene. Außerdem ist er Jazzpreisträger des Landes Baden-Württemberg. Martin (Ludwig) Auer ist Dozent für Jazztrompete an der Musikhochschule Leipzig. Er ist mit Louis Armstrongs Musik als Kind aufgewachsen und beherrscht diese wie seine Muttersprache. Jörg Teichert spielt Banjo und akustische Gitarre und hatte schon immer ein großes Faible für die frühen Stile des Jazz und des Blues.  \nGary Fuhrmann ist freiberuflicher Klarinettist und Saxophonist und Preisträger des Jazzpreis der Stadt Worms. Er liebt Jazz in all seinen Ausprägungen inniglich. Felix Fromm ist Dozent für Jazzposaune an der Musikhochschule Mannheim und Würzburg. Er ist musikalischer Leiter der Blassportgruppe\, und Steve Turre hat ihn die original Sam ‘Tricky’ Burton (Posaunist des Duke Ellington Orchestra) Plungertechnik gelehrt. \n
URL:https://www.herzog-magazin.de/event/jazzclub-satchmos-geist-im-kuba/
LOCATION:Kulturbahnhof (KuBa) Jülich\, Bahnhofsstraße 13\, Jülich\, NRW\, 52428\, Deutschland
GEO:50.91828;6.36768
X-APPLE-STRUCTURED-LOCATION;VALUE=URI;X-ADDRESS=Kulturbahnhof (KuBa) Jülich Bahnhofsstraße 13 Jülich NRW 52428 Deutschland;X-APPLE-RADIUS=500;X-TITLE=Bahnhofsstraße 13:geo:6.36768,50.91828
CATEGORIES:Musik,Musik & Konzerte
ATTACH;FMTTYPE=image/jpeg:https://www.herzog-magazin.de/wp-content/uploads/2022/03/SWOTAS-SextettB1-Foto-by-Rocco-Dürlich-Netz.jpg
ORGANIZER;CN="Jazzclub%20J%C3%BClich%20e.V.":MAILTO:jueljazz@web.de
END:VEVENT
END:VCALENDAR