    BEGIN:VCALENDAR
VERSION:2.0
PRODID:-//HERZOG Kultur- &amp; Stadtmagazin - ECPv4.9.2//NONSGML v1.0//EN
CALSCALE:GREGORIAN
METHOD:PUBLISH
X-WR-CALNAME:HERZOG Kultur- &amp; Stadtmagazin
X-ORIGINAL-URL:https://www.herzog-magazin.de
X-WR-CALDESC:Veranstaltungen im HERZOG Kultur- &amp; Stadtmagazin
BEGIN:VEVENT
DTSTART;TZID=Europe/Berlin:20260131T063000
DTEND;TZID=Europe/Berlin:20260131T190000
DTSTAMP:20260424T030422
CREATED:20251208T123451Z
LAST-MODIFIED:20251209T081326Z
UID:158877-1769841000-1769886000@www.herzog-magazin.de
SUMMARY:JGV: Exkursion in die Bundesstadt Bonn
DESCRIPTION:Der Jülicher Geschichtsverein 1923 e.V. startet in seinen Fahrtenprogramm 2026 am Samstag\, 31. Januar\, mit einer Exkursion in die Bundesstadt Bonn. Anlass ist die Eröffnung der neuen Dauerausstellung des Hauses der Geschichte der Bundesrepublik Deutschland. Hier erleben die Besuchenden\, wie sich Deutschland seit 1945 zu einer gefestigten Demokratie entwickelt hat – persönlich\, alltagsnah und interaktiv. Im Mittelpunkt stehen nicht nur politische Entscheidungen oder gesellschaftliche Debatten – sondern Menschen\, ihre persönlichen Geschichten und ihre historische Erfahrung. Über 3800 Objekte machen diese Geschichte greifbar. Ein selbst gebautes Fluchtflugzeug\, eine Puppenwiege aus der Nachkriegszeit\, ein Ford Transit aus dem Leben einer Einwandererfamilie – und ein Baumhaus als Zeichen für Umweltproteste. \nZweites Ziel der Tagesfahrt ist anlässlich des 150. Geburtstages von Konrad Adenauer das Bundeskanzler Adenauerhaus in Rhöndorf. Hier wird Zeitgeschichte zum unvergesslichen Erlebnis! Wer einmal durch Konrad Adenauers Garten schlendern\, den spektakulären Blick über das Rheintal genießen und sehen möchte\, wie der erste Bundeskanzler wohnte\, ist hier richtig. Die Kombination des historischen Wohnhauses und Gartens mit einer Ausstellung\, in der Adenauers langes Leben anhand von faszinierenden Objekten und Medien erfahrbar wird\, macht das Adenauerhaus zu einem einzigartigen Museum. \nEine Anmeldung kann online unter https://ogv-leverkusen.de/programm/anmeldung-zu-fahrten oder telefonisch unter 02461-345660 (Gunda Greve) erfolgen. Der Kostenbeitrag (inklusive Mittagessen) beträgt 75 Euro. \n
URL:https://www.herzog-magazin.de/event/jgv-exkursion-in-die-bundesstadt-bonn/
LOCATION:NRW\, Deutschland
CATEGORIES:Geschichte,kulturelle Bildung
ATTACH;FMTTYPE=image/jpeg:https://www.herzog-magazin.de/wp-content/uploads/2025/12/Tagesfahrt-Bonn-2025.jpg
ORGANIZER;CN="J%C3%BClicher%20Geschichtsverein%201923%20e.V.":MAILTO:service@juelicher-geschichtsverein.de
END:VEVENT
END:VCALENDAR