    BEGIN:VCALENDAR
VERSION:2.0
PRODID:-//HERZOG Kultur- &amp; Stadtmagazin - ECPv4.9.2//NONSGML v1.0//EN
CALSCALE:GREGORIAN
METHOD:PUBLISH
X-WR-CALNAME:HERZOG Kultur- &amp; Stadtmagazin
X-ORIGINAL-URL:https://www.herzog-magazin.de
X-WR-CALDESC:Veranstaltungen im HERZOG Kultur- &amp; Stadtmagazin
BEGIN:VEVENT
DTSTART;TZID=Europe/Berlin:20220427T180000
DTEND;TZID=Europe/Berlin:20220427T180000
DTSTAMP:20260421T235532
CREATED:20220316T154730Z
LAST-MODIFIED:20220316T154730Z
UID:76130-1651082400-1651082400@www.herzog-magazin.de
SUMMARY:JGV: Versammlung und Vortrag
DESCRIPTION:Im Rahmen des Mittwochsclubs von Jülicher Geschichtsverein 1923 e.V. und Museum Zitadelle Jülich findet in der Schlosskapelle der Zitadelle Jülich ein weiterer Vortrag statt. Guido von Büren referiert am Mittwoch\, 27. April\, um 19.30 Uhr über das Thema: Die Belagerung einer Stadt: Jülich 1621/22. \nIm Herbst/Winter 1621 / 22 wurde die Festung Jülich von spanischen Truppen belagert und schließlich auch eingenommen. Damit begann für Jülich eine 38 Jahre währende Besatzung durch die Spanier. Anlässlich der 400. Wiederkehr der Ereignisse zeigt das Museum Zitadelle Jülich ab dem 15. Mai die Ausstellung „Weltreich und Provinz. Die Spanier am Niederrhein 1560–1660“.  \nDer Vortrag wird einerseits die Belagerung 1621 / 22 in ihrem Verlauf darstellen\, andererseits aber auch die Ereignisse in den weiten Horizont des zeitgenössischen Geschehens einordnen. Seit Ende der 1560er Jahre herrschte am Niederrhein Krieg\, da die Auseinandersetzung zwischen den sieben nördlichen Provinzen der Niederlande\, den sogenannten Generalstaaten\, und dem König von Spanien als rechtmäßigem Landesherrn auch im Vorfeld der Niederlande ausgetragen wurden. Der Festung Jülich kam dabei eine Schlüsselstellung zu\, da sie eine wichtige Relaisstation der „Spanischen Straße“ bildete\, über die die Spanier von Oberitalien aus auf dem Landweg ihre niederländischen Besitzungen mit Soldaten und Kriegsmaterial versorgten.  \nSchon 1610 hatte ganz Europa gebannt nach Jülich geschaut\, als die von kaiserlichen Truppen besetzte Festung im Rahmen des Jülich-Klevischen Erbfolgestreites von einem Heer unter der Leitung von Moritz von Oranien belagert und eingenommen wurde. Nichts schien uneinnehmbar zu sein angesichts dieses militärtaktischen Erfolges. Das sollte sich aber auch zwölf Jahre später zeigen\, als die Festung unter umgekehrten Vorzeichen von den Niederländern verteidigt\, aber letztlich nicht gegen den spanischen Heerführer Ambrosio Spinola gehalten werden konnte. \nDer Eintritt ist frei. Der Vortrag wird unter Einhaltung der aktuellen Corona-Schutzbestimmungen durchgeführt und kann parallel über Zoom verfolgt werden: https://qrco.de/bcfTJV. \nBereits um 18 Uhr trifft sich der Jülicher Geschichtsverein 1923 e.V. in der Schlosskapelle zu seiner diesjährigen Mitgliederversammlung. \n
URL:https://www.herzog-magazin.de/event/jgv-versammlung-und-vortrag/
LOCATION:Schlosskapelle der Zitadelle\, Schloßstraße\, Jülich\, NRW\, 52428\, Deutschland
CATEGORIES:Geschichte,Mitgliederversammlung,Versammlungen,Vortrag
ATTACH;FMTTYPE=image/jpeg:https://www.herzog-magazin.de/wp-content/uploads/2022/03/Flugblatt-Belagerung-Festung-Jülich.-Stadtarchiv-Jülich.jpg
ORGANIZER;CN="J%C3%BClicher%20Geschichtsverein%201923%20e.V.":MAILTO:service@juelicher-geschichtsverein.de
END:VEVENT
END:VCALENDAR