    BEGIN:VCALENDAR
VERSION:2.0
PRODID:-//HERZOG Kultur- &amp; Stadtmagazin - ECPv4.9.2//NONSGML v1.0//EN
CALSCALE:GREGORIAN
METHOD:PUBLISH
X-WR-CALNAME:HERZOG Kultur- &amp; Stadtmagazin
X-ORIGINAL-URL:https://www.herzog-magazin.de
X-WR-CALDESC:Veranstaltungen im HERZOG Kultur- &amp; Stadtmagazin
BEGIN:VEVENT
DTSTART;TZID=Europe/Berlin:20220902T200000
DTEND;TZID=Europe/Berlin:20220902T200000
DTSTAMP:20260425T020432
CREATED:20220801T163332Z
LAST-MODIFIED:20220801T163844Z
UID:85553-1662148800-1662148800@www.herzog-magazin.de
SUMMARY:Jochen Malmsheimer im KuBa-Biergarten
DESCRIPTION:Es ist angerichtet: Dogensuppe Herzogin – ein Austopf mit Einlage. Der Kulturbahnhof Jülich und das Kulturbüro der Stadt Jülich präsentieren Jochen Malmsheimer am Freitag\, 2. September im Jülicher KuBa. Beginn ist um 20 Uhr. Einlass wird ab 19.30 Uhr gewährt. \nDie cerebrale Fäulnis in diesem Land sei\, so diagnostiziert Jochen Malmsheimer\, subjektiv gefühlt immer schon hoch gewesen\, aber nun ließe sich dieses trübe Faktum nicht mehr nur im Experiment nachweisen. Alle\, die über ein entwickeltes humanoides Sensorium\, über Geist\, Witz\, Verstand und Geschmack verfügten\, seien fühlbar im Freiland angekommen. „Machen wir uns doch nichts vor: Kabarett ist dieser Tage wichtiger denn je!“ \nUnd so begibt sich Malmsheimer auf eine Reise nach Venedig in die Urstätte der Renaissance und des Humanismus\, bereit\, sich diesem geradezu enzephalen Unsinn in den Weg zu stellen: gegürtet mit dem Schwert der Poesie und gewandet in die lange Unterhose tröstenden Mutterwitzes. Denn wie schon Erasco von Rotterdam wußte: Wer oft genug an’s Hohle klopft\, der schenkt der Leere ein Geräusch. \nKarten sind im Vorverkauf zu 20 Euro zuzüglich Gebühren (Abendkasse 23 Euro) bei Thalia\, Kölnstraße 9\, oder unter ztix.de erhältlich. \n
URL:https://www.herzog-magazin.de/event/jochen-malsheimer-im-kuba-biergarten/
LOCATION:Kulturbahnhof (KuBa) Jülich\, Bahnhofsstraße 13\, Jülich\, NRW\, 52428\, Deutschland
GEO:50.91828;6.36768
X-APPLE-STRUCTURED-LOCATION;VALUE=URI;X-ADDRESS=Kulturbahnhof (KuBa) Jülich Bahnhofsstraße 13 Jülich NRW 52428 Deutschland;X-APPLE-RADIUS=500;X-TITLE=Bahnhofsstraße 13:geo:6.36768,50.91828
CATEGORIES:Kabarett & Comedy
ATTACH;FMTTYPE=image/jpeg:https://www.herzog-magazin.de/wp-content/uploads/2022/08/Malmsheimer_Mangiacasa©Agentur-Netz.jpg
ORGANIZER;CN="Stadt%20J%C3%BClich":MAILTO:info@juelich.de
END:VEVENT
END:VCALENDAR