    BEGIN:VCALENDAR
VERSION:2.0
PRODID:-//HERZOG Kultur- &amp; Stadtmagazin - ECPv4.9.2//NONSGML v1.0//EN
CALSCALE:GREGORIAN
METHOD:PUBLISH
X-WR-CALNAME:HERZOG Kultur- &amp; Stadtmagazin
X-ORIGINAL-URL:https://www.herzog-magazin.de
X-WR-CALDESC:Veranstaltungen im HERZOG Kultur- &amp; Stadtmagazin
BEGIN:VEVENT
DTSTART;TZID=Europe/Berlin:20220611T173000
DTEND;TZID=Europe/Berlin:20220611T173000
DTSTAMP:20260426T034827
CREATED:20220601T150254Z
LAST-MODIFIED:20220601T150254Z
UID:81335-1654968600-1654968600@www.herzog-magazin.de
SUMMARY:Jubiläum des Kirchberger Brauchtums
DESCRIPTION:Grund zum Jubeln und Feiern in Kirchberg: Der Verein zur Pflege des heimatlichen Brauchtums Kirchberg e.V. feiert Jubiläum. Eigentlich besteht der Grund zum Jubeln schon seit über 25 Jahren\, denn am 15. Januar 1996 wurde der Verein gegründet\, um das Brauchtum zu pflegen und zu erhalten. Im Zentrum des Dorfes\, im Lindenhof\, fand der Verein seinen örtlichen Mittelpunkt. \nKirchberg ist über 1000 Jahre alt und schaut auf eine bewegte Geschichte zurück\, die dem Verein immer wieder Anlass war\, in Bilderausstellungen\, historischem Festzug und Handwerksschau das Leben der Gemeinde vorzustellen. Die Mundartgruppe\, die sich später zusammenfand\, sorgte für jährlich stattfindende unterhaltsame Nachmittage im Lindenhof und jetzt im Jugendheim. \nDie Feiern zum Jubiläum mussten leider pandemiebedingt um zwei Jahre auf 2022 verschoben werden. Umso mehr freut es die Initiatoren\, dass sie am Samstag\, 11. Juni\, zu einem Festgottesdienst um 17.30 Uhr zu Ehren der Lebenden und Verstorbenen in die Pfarrkirche Sankt Martinus einladen können.  \nBeim anschließenden Festkommers\, der ebenfalls in der Kirche stattfindet\, wird neben der Ehrung der Gründer in Reden und Grußworten das Vereinsleben lebendig dargestellt. Musikalisch begleitet wird die Feier von Jörg Voländer am Klavier. Beim Austausch vieler persönlicher Erinnerungen mit den geladenen Gästen im Jugendheim\, wird die Jubiläumsfeier ihren Ausklang finden. \nNoch ein Bonbönchen für die Freunde der Mundart gibt es am Sonntag\, 12. Juni. Sie sind eingeladen zum „Jubiläums-Monkart-Nommedaach“ um 16.30 Uhr im Jugendheim Kirchberg. Das Programm steht unter dem Motto „Ee Pottpürie uß 16 Joahr – Esu jeschwaad“.  \nDa die Anzahl der Plätze begrenzt ist\, werden die Karten für die Veranstaltung zuerst an Vereinsmitglieder ausgegeben. Karten für darüber hinaus verfügbare\, freie Plätze können anschließend gerne von allen Interessierten erworben werden bei Veronika Lövenich\, Tel. 02461 / 55384\, oder Elisabeh Wolff\, Tel. 02461 / 4068800 \n
URL:https://www.herzog-magazin.de/event/jubilaeum-des-kirchberger-brauchtums/2022-06-11/
LOCATION:Kirchberg
CATEGORIES:Brauchtum
ATTACH;FMTTYPE=image/jpeg:https://www.herzog-magazin.de/wp-content/uploads/2022/06/Kirchberg-Ortsschild.jpg
END:VEVENT
END:VCALENDAR