    BEGIN:VCALENDAR
VERSION:2.0
PRODID:-//HERZOG Kultur- &amp; Stadtmagazin - ECPv4.9.2//NONSGML v1.0//EN
CALSCALE:GREGORIAN
METHOD:PUBLISH
X-WR-CALNAME:HERZOG Kultur- &amp; Stadtmagazin
X-ORIGINAL-URL:https://www.herzog-magazin.de
X-WR-CALDESC:Veranstaltungen im HERZOG Kultur- &amp; Stadtmagazin
BEGIN:VEVENT
DTSTART;TZID=Europe/Berlin:20221105T093000
DTEND;TZID=Europe/Berlin:20221105T093000
DTSTAMP:20260426T021857
CREATED:20241010T091830Z
LAST-MODIFIED:20241010T091830Z
UID:133972-1667640600-1667640600@www.herzog-magazin.de
SUMMARY:Judo: Muttkrate-Turnier & Meisterschaften Kopieren
DESCRIPTION:Das bezirksoffene Muttkrate-Turnier richtet der Jülicher Judoclub e.V. zum 32 Male am 5. und 6. November in der Sporthalle des Schulzentrums Jülich\, Linnicher Straße 67\, aus. Nach den Ausfällen und reduzierten Möglichkeiten durch die Coronalage in den vergangen Jahren sind die Anmeldezahlen dieses Jahr auf einen sehr hohen Stand.  \nZusätzlich wird am Samstagvormittag die Einzemeisterschaft der Frauen und Männer für den Bezirk Köln ausgerichtet. Bei beiden Meisterschaften werden weit über 600 Judoka im Schulzentrum an der Linnicher Straße erwartet. \nDas 32. Jülicher Muttkrate-Turnier ist ein bezirksoffenes Turnier für die Altersklassen U11\, U13\, U15 und U18 im Bezirk Köln. Veranstalter ist der NWJV e.V.\, Bezirk Köln. Die U13 und U18 treten am Samstag\, 5. November\, gegeneinander an. Zur Waage geht es ab 11.30 Uhr. Kampfbeginn ist ab etwa 12.30 Uhr. Die Altersklassen U11 und U15 messen sich am Sonntag\, 6. November\, ab etwa 10.30 Uhr. Zuvor geht es ab 9.30 Uhr zur Waage. \nDie Bezirkseinzelmeisterschaften 2022 für Frauen und Männer des Bezirks Köln stehen außerdem am Samstag\, 5. November\, am selben Ort an. Veranstalter ist hierbei der NWJV e.V.\, Sportkreis Aachen. Hier steht die Waage von 9 bis 9.30 Uhr zur Verfügung. Kampfbeginn ist kurzfristig nach Ende der Waage. \n
URL:https://www.herzog-magazin.de/event/judo-muttkrate-turnier-bezirkseinzelmeisterschaften-copy/2022-11-05/
LOCATION:Schulzentrum\, Linnicher Straße 67\, Jülich\, NRW\, 52428\, Deutschland
GEO:50.9301747;6.3545449
X-APPLE-STRUCTURED-LOCATION;VALUE=URI;X-ADDRESS=Schulzentrum Linnicher Straße 67 Jülich NRW 52428 Deutschland;X-APPLE-RADIUS=500;X-TITLE=Linnicher Straße 67:geo:6.3545449,50.9301747
CATEGORIES:Sport
ATTACH;FMTTYPE=image/jpeg:https://www.herzog-magazin.de/wp-content/uploads/2022/11/Schulzentrum-Juelich.jpg
ORGANIZER;CN="J%C3%BClicher%20Judoclub%20e.V.":MAILTO:info@juelicher-judoclub.de
END:VEVENT
END:VCALENDAR